BEGIN:VCALENDAR
VERSION:2.0
PRODID:-//Jung Association of Central Ohio - ECPv6.3.1//NONSGML v1.0//EN
CALSCALE:GREGORIAN
METHOD:PUBLISH
X-ORIGINAL-URL:https://www.jungcentralohio.org
X-WR-CALDESC:Events for Jung Association of Central Ohio
REFRESH-INTERVAL;VALUE=DURATION:PT1H
X-Robots-Tag:noindex
X-PUBLISHED-TTL:PT1H
BEGIN:VTIMEZONE
TZID:America/New_York
BEGIN:DAYLIGHT
TZOFFSETFROM:-0500
TZOFFSETTO:-0400
TZNAME:EDT
DTSTART:20180311T070000
END:DAYLIGHT
BEGIN:STANDARD
TZOFFSETFROM:-0400
TZOFFSETTO:-0500
TZNAME:EST
DTSTART:20181104T060000
END:STANDARD
END:VTIMEZONE
BEGIN:VEVENT
DTSTART;TZID=America/New_York:20181027T090000
DTEND;TZID=America/New_York:20181027T130000
DTSTAMP:20260422T183433
CREATED:20180814T174403Z
LAST-MODIFIED:20181018T135719Z
UID:462-1540630800-1540645200@www.jungcentralohio.org
SUMMARY:Bollingen Workshop (Day 2)Dr. John Beebe “Connecting With Culture Through Psychological Types”
DESCRIPTION:Day 2:  Oct 27: 9 am-1 pm \n“Connecting with Culture through Psychological Types” \nClick here for the event Flier.
URL:https://www.jungcentralohio.org/event/featured-event-day-2-of-2connecting-with-culture-through-psychological-types/
END:VEVENT
END:VCALENDAR