BEGIN:VCALENDAR
VERSION:2.0
PRODID:-//Jung Association of Central Ohio - ECPv6.3.1//NONSGML v1.0//EN
CALSCALE:GREGORIAN
METHOD:PUBLISH
X-WR-CALNAME:Jung Association of Central Ohio
X-ORIGINAL-URL:https://www.jungcentralohio.org
X-WR-CALDESC:Events for Jung Association of Central Ohio
REFRESH-INTERVAL;VALUE=DURATION:PT1H
X-Robots-Tag:noindex
X-PUBLISHED-TTL:PT1H
BEGIN:VTIMEZONE
TZID:America/New_York
BEGIN:DAYLIGHT
TZOFFSETFROM:-0500
TZOFFSETTO:-0400
TZNAME:EDT
DTSTART:20190310T070000
END:DAYLIGHT
BEGIN:STANDARD
TZOFFSETFROM:-0400
TZOFFSETTO:-0500
TZNAME:EST
DTSTART:20191103T060000
END:STANDARD
END:VTIMEZONE
BEGIN:VEVENT
DTSTART;TZID=America/New_York:20190125T190000
DTEND;TZID=America/New_York:20190125T210000
DTSTAMP:20260422T145740
CREATED:20181210T142304Z
LAST-MODIFIED:20181218T225005Z
UID:834-1548442800-1548450000@www.jungcentralohio.org
SUMMARY:Dreams and Spiritual Growth - Presented by Janice Bachman\, O.P.\, Jungian Analyst - Day 1: 7-9 PM
DESCRIPTION:Dreams and Spiritual Growth
URL:https://www.jungcentralohio.org/event/dreams-and-spiritual-growth-presented-by-janice-bachman-o-p-day-1-7-9-pm/
LOCATION:JungHaus\, 59 W. 3rd Ave.\, Columbus\, 43201\, United States
ORGANIZER;CN="C.G. Jung Association of Central Ohio":MAILTO:jungaco@jungcentralohio.org
END:VEVENT
END:VCALENDAR