BEGIN:VCALENDAR
VERSION:2.0
PRODID:-//Jung Association of Central Ohio - ECPv6.3.1//NONSGML v1.0//EN
CALSCALE:GREGORIAN
METHOD:PUBLISH
X-WR-CALNAME:Jung Association of Central Ohio
X-ORIGINAL-URL:https://www.jungcentralohio.org
X-WR-CALDESC:Events for Jung Association of Central Ohio
REFRESH-INTERVAL;VALUE=DURATION:PT1H
X-Robots-Tag:noindex
X-PUBLISHED-TTL:PT1H
BEGIN:VTIMEZONE
TZID:America/New_York
BEGIN:DAYLIGHT
TZOFFSETFROM:-0500
TZOFFSETTO:-0400
TZNAME:EDT
DTSTART:20190310T070000
END:DAYLIGHT
BEGIN:STANDARD
TZOFFSETFROM:-0400
TZOFFSETTO:-0500
TZNAME:EST
DTSTART:20191103T060000
END:STANDARD
END:VTIMEZONE
BEGIN:VEVENT
DTSTART;TZID=America/New_York:20190511T110000
DTEND;TZID=America/New_York:20190727T140000
DTSTAMP:20260422T073622
CREATED:20190514T135243Z
LAST-MODIFIED:20190515T180816Z
UID:1122-1557572400-1564236000@www.jungcentralohio.org
SUMMARY:Current Art Exhibit: "Paths that Lead up the Road\, Around the Corner or  Tempt to Linger for a While"  Paintings by Evelyn Burke
DESCRIPTION:Hours are (generally) Tuesday-Saturday from 11a-2p. Calling ahead is recommended: 614-291-8050
URL:https://www.jungcentralohio.org/event/current-art-exhibit-paths-the-lead-up-the-road-around-the-corner-or-tempt-to-linger-for-a-while-paintings-by-evelyn-burke/
ORGANIZER;CN="C.G. Jung Association of Central Ohio":MAILTO:jungaco@jungcentralohio.org
END:VEVENT
BEGIN:VEVENT
DTSTART;TZID=America/New_York:20190608T100000
DTEND;TZID=America/New_York:20190608T120000
DTSTAMP:20260422T073622
CREATED:20190414T202541Z
LAST-MODIFIED:20190414T202541Z
UID:1070-1559988000-1559995200@www.jungcentralohio.org
SUMMARY:Celtic Imagination as a Healing Force
DESCRIPTION:Join JACO Board Member\, John P. Schuster\, teacher\, author and frequent traveler to Ireland to understand why Celtic traditions and stories are not just for the Irish. Like all indigenous cultures\, they show us how to stay in touch with the myths that matter and the instincts that make us human. Jung explored this universal layer of the unconscious to help us tap into and heal our ancestral memories. John’s new podcast\, Stories for the Ages: celebrating aging with vitality and purpose\, is a collaborative effort with public radio. This is a Second Saturday program. There is no admission charge although small donations are always welcome.
URL:https://www.jungcentralohio.org/event/celtic-imagination-as-a-healing-force/
LOCATION:JungHaus\, 59 W. 3rd Ave.\, Columbus\, 43201\, United States
ORGANIZER;CN="C.G. Jung Association of Central Ohio":MAILTO:jungaco@jungcentralohio.org
END:VEVENT
END:VCALENDAR