BEGIN:VCALENDAR
VERSION:2.0
PRODID:-//Jung Association of Central Ohio - ECPv6.3.1//NONSGML v1.0//EN
CALSCALE:GREGORIAN
METHOD:PUBLISH
X-ORIGINAL-URL:https://www.jungcentralohio.org
X-WR-CALDESC:Events for Jung Association of Central Ohio
REFRESH-INTERVAL;VALUE=DURATION:PT1H
X-Robots-Tag:noindex
X-PUBLISHED-TTL:PT1H
BEGIN:VTIMEZONE
TZID:America/New_York
BEGIN:DAYLIGHT
TZOFFSETFROM:-0500
TZOFFSETTO:-0400
TZNAME:EDT
DTSTART:20190310T070000
END:DAYLIGHT
BEGIN:STANDARD
TZOFFSETFROM:-0400
TZOFFSETTO:-0500
TZNAME:EST
DTSTART:20191103T060000
END:STANDARD
END:VTIMEZONE
BEGIN:VEVENT
DTSTART;TZID=America/New_York:20190810T100000
DTEND;TZID=America/New_York:20190810T120000
DTSTAMP:20260422T050125
CREATED:20190802T022430Z
LAST-MODIFIED:20190802T022430Z
UID:1181-1565431200-1565438400@www.jungcentralohio.org
SUMMARY:Embodying the Spiritual Journey
DESCRIPTION:Explore Yoga as a tool for Mind/Body/Spirit Integration with Stacie Stormer\, RYT200\, LPC\, and Elizabeth Condon\, RYT200 Spiritual Director. All practices will be done in chairs or standing briefly. Dress comfortably. Bring your curiosity.  There is no charge for this program though donations\, no matter how small\, are always welcome.
URL:https://www.jungcentralohio.org/event/embodying-the-spiritual-journey/
LOCATION:JungHaus\, 59 W. 3rd Ave.\, Columbus\, 43201\, United States
ORGANIZER;CN="C.G. Jung Association of Central Ohio":MAILTO:jungaco@jungcentralohio.org
END:VEVENT
END:VCALENDAR