BEGIN:VCALENDAR
VERSION:2.0
PRODID:-//Jung Association of Central Ohio - ECPv6.3.1//NONSGML v1.0//EN
CALSCALE:GREGORIAN
METHOD:PUBLISH
X-WR-CALNAME:Jung Association of Central Ohio
X-ORIGINAL-URL:https://www.jungcentralohio.org
X-WR-CALDESC:Events for Jung Association of Central Ohio
REFRESH-INTERVAL;VALUE=DURATION:PT1H
X-Robots-Tag:noindex
X-PUBLISHED-TTL:PT1H
BEGIN:VTIMEZONE
TZID:America/New_York
BEGIN:DAYLIGHT
TZOFFSETFROM:-0500
TZOFFSETTO:-0400
TZNAME:EDT
DTSTART:20190310T070000
END:DAYLIGHT
BEGIN:STANDARD
TZOFFSETFROM:-0400
TZOFFSETTO:-0500
TZNAME:EST
DTSTART:20191103T060000
END:STANDARD
END:VTIMEZONE
BEGIN:VEVENT
DTSTART;TZID=America/New_York:20190928T090000
DTEND;TZID=America/New_York:20190928T123000
DTSTAMP:20260422T032945
CREATED:20190715T160117Z
LAST-MODIFIED:20190925T191514Z
UID:1156-1569661200-1569673800@www.jungcentralohio.org
SUMMARY:Consciousness and the Perils of Polarization\, presented by Richard J. Sweeney\, PhD
DESCRIPTION:Sweeney Consciousness and the Perils of Polarization Program Flier\nPurchase tickets by scrolling down to Tickets \nLate in life C.G. Jung expressed his belief that the sole purpose of human existence is “to create more and more consciousness” so as “to kindle a light in the darkness of mere being.” In this program we will examine the nature and importance of consciousness\, particularly in today’s world. To this end\, we will consider the development and degrees of consciousness and explore frequent obstacles to consciousness\, including narcissistic tendencies . We will probe Jung’s view that all psychological symptoms and neuroses derive from conflict or polarization within the psyche. This will lead to a reflection upon social consciousness and the problem of polarization within the collective psyche today. Our aim will be to suggest how the development of consciousness is both a personal and a societal enterprise. The presentation will combine lecture with the use of case examples\, dream material\, recent research and some interaction with participants \n  \n 
URL:https://www.jungcentralohio.org/event/consciousness-and-the-perils-of-polarization-presented-by-richard-j-sweeney-phd/
LOCATION:First Unitarian Universalist Church\, 93 W Weisheimer Rd\, Columbus\, OH\, 43214\, United States
ORGANIZER;CN="C.G. Jung Association of Central Ohio":MAILTO:jungaco@jungcentralohio.org
END:VEVENT
END:VCALENDAR