BEGIN:VCALENDAR
VERSION:2.0
PRODID:-//Jung Association of Central Ohio - ECPv6.3.1//NONSGML v1.0//EN
CALSCALE:GREGORIAN
METHOD:PUBLISH
X-ORIGINAL-URL:https://www.jungcentralohio.org
X-WR-CALDESC:Events for Jung Association of Central Ohio
REFRESH-INTERVAL;VALUE=DURATION:PT1H
X-Robots-Tag:noindex
X-PUBLISHED-TTL:PT1H
BEGIN:VTIMEZONE
TZID:America/New_York
BEGIN:DAYLIGHT
TZOFFSETFROM:-0500
TZOFFSETTO:-0400
TZNAME:EDT
DTSTART:20190310T070000
END:DAYLIGHT
BEGIN:STANDARD
TZOFFSETFROM:-0400
TZOFFSETTO:-0500
TZNAME:EST
DTSTART:20191103T060000
END:STANDARD
BEGIN:DAYLIGHT
TZOFFSETFROM:-0500
TZOFFSETTO:-0400
TZNAME:EDT
DTSTART:20200308T070000
END:DAYLIGHT
BEGIN:STANDARD
TZOFFSETFROM:-0400
TZOFFSETTO:-0500
TZNAME:EST
DTSTART:20201101T060000
END:STANDARD
END:VTIMEZONE
BEGIN:VEVENT
DTSTART;TZID=America/New_York:20191109T080000
DTEND;TZID=America/New_York:20200125T170000
DTSTAMP:20260421T220905
CREATED:20191207T220444Z
LAST-MODIFIED:20191207T220444Z
UID:1752-1573286400-1579971600@www.jungcentralohio.org
SUMMARY:“The Animal and Me” - an art exhibit by members of the C.G. Jung Association of Central Ohio
DESCRIPTION:Members of the C.G. Jung Association of Central Ohio were invited to reflect on the animals in their lives – direct relationships\, dream influences\, historical associations – and create art to exhibit in “The Animal and Me”. Please do call ahead when planning to visit the gallery\, to make sure the Jung Haus is open at the time you want to visit. 614-291-8050
URL:https://www.jungcentralohio.org/event/the-animal-and-me-an-art-exhibit-by-members-of-the-c-g-jung-association-of-central-ohio/
LOCATION:JungHaus\, 59 W. 3rd Ave.\, Columbus\, 43201\, United States
ORGANIZER;CN="C.G. Jung Association of Central Ohio":MAILTO:jungaco@jungcentralohio.org
END:VEVENT
END:VCALENDAR