BEGIN:VCALENDAR
VERSION:2.0
PRODID:-//Jung Association of Central Ohio - ECPv6.3.1//NONSGML v1.0//EN
CALSCALE:GREGORIAN
METHOD:PUBLISH
X-ORIGINAL-URL:https://www.jungcentralohio.org
X-WR-CALDESC:Events for Jung Association of Central Ohio
REFRESH-INTERVAL;VALUE=DURATION:PT1H
X-Robots-Tag:noindex
X-PUBLISHED-TTL:PT1H
BEGIN:VTIMEZONE
TZID:America/New_York
BEGIN:DAYLIGHT
TZOFFSETFROM:-0500
TZOFFSETTO:-0400
TZNAME:EDT
DTSTART:20200308T070000
END:DAYLIGHT
BEGIN:STANDARD
TZOFFSETFROM:-0400
TZOFFSETTO:-0500
TZNAME:EST
DTSTART:20201101T060000
END:STANDARD
END:VTIMEZONE
BEGIN:VEVENT
DTSTART;TZID=America/New_York:20200314T100000
DTEND;TZID=America/New_York:20200314T113000
DTSTAMP:20260421T190412
CREATED:20200109T023145Z
LAST-MODIFIED:20200123T020621Z
UID:1772-1584180000-1584185400@www.jungcentralohio.org
SUMMARY:Book Discussion 2 of 2 - Imaginal Figures and The Mythmaker (by Dr. Mary Harrell) - facilitated by Kathy Cleveland Bull
DESCRIPTION:There will be two book discussions – one on March 7 and one on March 14. Ordinarily March 14 would be a free coffee and conversation Jung Haus Second Saturday. However\, this special book discussion in advance of the April 3 and 4 Bauza lecture\, has been scheduled in lieu of a Second Saturday.  Scroll down to “Tickets” to register.\nClick here to see full flier K C B Harrell Book Discussion \nIn soft whispers and quiet evocations\nwe are called by soul to seek the depth of a thing\,\nto wonder what else\, or who else is present\nin the cavernous mystery of lived experience.  – Mary Harrell \nOur unconscious offers insight and wisdom made available through guides like dreams\, symbols and figures that may appear subtly in ways that affect us deeply. Harrell’s work explains how we can interact with and learn from these manifestations of the psyche. Through facilitated dialogue\, we will explore concepts from Dr. Harrell’s books and share our own understandings and experiences in a safe and supportive circle.\nYou do not have to have attended the first session to participate in the second and although reading the book in advance is desirable\, it is not a condition of attendance.\nMary Harrell is a Jungian-oriented psychotherapist and licensed psychologist\, who is professor emerita at SUNY Oswego.
URL:https://www.jungcentralohio.org/event/book-discussion-2-of-2-imaginal-figures-and-the-mythmaker-by-dr-mary-harrell-facilitated-by-kathy-cleveland-bull/
LOCATION:JungHaus\, 59 W. 3rd Ave.\, Columbus\, 43201\, United States
ORGANIZER;CN="C.G. Jung Association of Central Ohio":MAILTO:jungaco@jungcentralohio.org
END:VEVENT
END:VCALENDAR