BEGIN:VCALENDAR
VERSION:2.0
PRODID:-//Jung Association of Central Ohio - ECPv6.3.1//NONSGML v1.0//EN
CALSCALE:GREGORIAN
METHOD:PUBLISH
X-ORIGINAL-URL:https://www.jungcentralohio.org
X-WR-CALDESC:Events for Jung Association of Central Ohio
REFRESH-INTERVAL;VALUE=DURATION:PT1H
X-Robots-Tag:noindex
X-PUBLISHED-TTL:PT1H
BEGIN:VTIMEZONE
TZID:America/New_York
BEGIN:DAYLIGHT
TZOFFSETFROM:-0500
TZOFFSETTO:-0400
TZNAME:EDT
DTSTART:20200308T070000
END:DAYLIGHT
BEGIN:STANDARD
TZOFFSETFROM:-0400
TZOFFSETTO:-0500
TZNAME:EST
DTSTART:20201101T060000
END:STANDARD
END:VTIMEZONE
BEGIN:VEVENT
DTSTART;TZID=America/New_York:20200321T093000
DTEND;TZID=America/New_York:20200321T133000
DTSTAMP:20260421T190413
CREATED:20200304T030259Z
LAST-MODIFIED:20200312T124753Z
UID:1881-1584783000-1584797400@www.jungcentralohio.org
SUMMARY:CANCELLED SUE TO CORONA VIRUS SITUATION - Healing Trauma: The Lost and Recovered Soul in Depth Psychology with Donald Kalsched\, PhD - Sponsored by The C.G. Jung Association of the Miami Valley
DESCRIPTION:THIS PROGRAM HAS BEEN CANCELLED DUE TO THE CORONA VIRUS SITUATION.\nThe program was to have included a March 21 workshop from 9:30 am to 1:30 pm and a Sunday Colloquium from 9:30 am to 12:30 pm. It was being sponsored by the C.G. Jung Association of the Miami Valley\, with the Saturday workshop to have been held in Dayton and the Sunday Colloquium in Yellow Springs.  See this flier for complete information on what the program had been designed to offer:  Kalsched Healing Trauma Program
URL:https://www.jungcentralohio.org/event/healing-trauma-the-lost-and-recovered-soul-in-depth-psychology-with-donald-kalsched-phd/
END:VEVENT
END:VCALENDAR