BEGIN:VCALENDAR
VERSION:2.0
PRODID:-//Jung Association of Central Ohio - ECPv6.3.1//NONSGML v1.0//EN
CALSCALE:GREGORIAN
METHOD:PUBLISH
X-ORIGINAL-URL:https://www.jungcentralohio.org
X-WR-CALDESC:Events for Jung Association of Central Ohio
REFRESH-INTERVAL;VALUE=DURATION:PT1H
X-Robots-Tag:noindex
X-PUBLISHED-TTL:PT1H
BEGIN:VTIMEZONE
TZID:America/New_York
BEGIN:DAYLIGHT
TZOFFSETFROM:-0500
TZOFFSETTO:-0400
TZNAME:EDT
DTSTART:20200308T070000
END:DAYLIGHT
BEGIN:STANDARD
TZOFFSETFROM:-0400
TZOFFSETTO:-0500
TZNAME:EST
DTSTART:20201101T060000
END:STANDARD
END:VTIMEZONE
BEGIN:VEVENT
DTSTART;TZID=America/New_York:20200403T190000
DTEND;TZID=America/New_York:20200403T210000
DTSTAMP:20260421T172959
CREATED:20200204T192741Z
LAST-MODIFIED:20200311T142847Z
UID:1798-1585940400-1585947600@www.jungcentralohio.org
SUMMARY:CANCELLED DUE TO CORONA VIRUS SITUATION - Imagination as a Path to Wisdom: Exploring Depth through Dreams and Images\, presented by Dr. Mary Harrell - a Friday Evening Lecture
DESCRIPTION:Program Description:  Dr. Mary Harrell Program Announcement\nTickets:  NOT AVAILABLE BECAUSE PROGRAM HAS BEEN CANCELLED DUE TO THE CORONA VIRUS SITUATION
URL:https://www.jungcentralohio.org/event/imagination-as-a-path-to-wisdom-exploring-depth-through-dreams-and-images-presented-by-dr-mary-harrell-a-friday-evening-lecture/
LOCATION:First Community\, 1320 Cambridge Blvd.\, Columbus\, Ohio 43212
ORGANIZER;CN="C.G. Jung Association of Central Ohio":MAILTO:jungaco@jungcentralohio.org
END:VEVENT
END:VCALENDAR