BEGIN:VCALENDAR
VERSION:2.0
PRODID:-//Jung Association of Central Ohio - ECPv6.3.1//NONSGML v1.0//EN
CALSCALE:GREGORIAN
METHOD:PUBLISH
X-ORIGINAL-URL:https://www.jungcentralohio.org
X-WR-CALDESC:Events for Jung Association of Central Ohio
REFRESH-INTERVAL;VALUE=DURATION:PT1H
X-Robots-Tag:noindex
X-PUBLISHED-TTL:PT1H
BEGIN:VTIMEZONE
TZID:America/New_York
BEGIN:DAYLIGHT
TZOFFSETFROM:-0500
TZOFFSETTO:-0400
TZNAME:EDT
DTSTART:20200308T070000
END:DAYLIGHT
BEGIN:STANDARD
TZOFFSETFROM:-0400
TZOFFSETTO:-0500
TZNAME:EST
DTSTART:20201101T060000
END:STANDARD
END:VTIMEZONE
BEGIN:VEVENT
DTSTART;TZID=America/New_York:20200530T140000
DTEND;TZID=America/New_York:20200630T233000
DTSTAMP:20260421T124805
CREATED:20200518T205142Z
LAST-MODIFIED:20200530T182200Z
UID:1919-1590847200-1593559800@www.jungcentralohio.org
SUMMARY:Video of the May 29 Jungian Panel Discussion of the Fairy Tale "The Girl Without Hands"
DESCRIPTION:This is the video link:https://youtu.be/GVTatXs38bg \nThe following link takes you to the newsletter article that announced the panel. It might provide a little background and context. \nhttps://myemail.constantcontact.com/JACO-s-film-discussion-and-more—.html?soid=1132199571321&aid=69eW-wBqAIU
URL:https://www.jungcentralohio.org/event/jungian-panel-discussion-of-the-fairy-tale-the-girl-without-hands/
ORGANIZER;CN="C.G. Jung Association of Central Ohio":MAILTO:jungaco@jungcentralohio.org
END:VEVENT
END:VCALENDAR