BEGIN:VCALENDAR
VERSION:2.0
PRODID:-//Jung Association of Central Ohio - ECPv6.3.1//NONSGML v1.0//EN
CALSCALE:GREGORIAN
METHOD:PUBLISH
X-WR-CALNAME:Jung Association of Central Ohio
X-ORIGINAL-URL:https://www.jungcentralohio.org
X-WR-CALDESC:Events for Jung Association of Central Ohio
REFRESH-INTERVAL;VALUE=DURATION:PT1H
X-Robots-Tag:noindex
X-PUBLISHED-TTL:PT1H
BEGIN:VTIMEZONE
TZID:America/New_York
BEGIN:DAYLIGHT
TZOFFSETFROM:-0500
TZOFFSETTO:-0400
TZNAME:EDT
DTSTART:20200308T070000
END:DAYLIGHT
BEGIN:STANDARD
TZOFFSETFROM:-0400
TZOFFSETTO:-0500
TZNAME:EST
DTSTART:20201101T060000
END:STANDARD
END:VTIMEZONE
BEGIN:VEVENT
DTSTART;TZID=America/New_York:20200711T100000
DTEND;TZID=America/New_York:20200711T113000
DTSTAMP:20260421T124812
CREATED:20200629T163908Z
LAST-MODIFIED:20200629T164123Z
UID:1958-1594461600-1594467000@www.jungcentralohio.org
SUMMARY:The Racial Complex:  A Conversation on Racism\, Shadow and the Personal Unconscious - A Talk with Fanny Brewster\, Ph.D.\, M.F.A
DESCRIPTION:This is a free Zoom based program but please email JACO at\njungaco@jungcentralohio.org\nby Thursday July 9  so that we can get back in touch with you to provide the Zoom link to participate. \nJust as the coloured man lives in your cities and even within your houses\, so also he lives under your skin\, subconsciously.  Naturally it works both ways.  Just as every Jew has a Christ complex\, so every Negro has a white complex and every American (white) a Negro complex.\nC.G. Jung Collected Works\, Vol. 10\, para 963 \nWhen we open the door of Jungian psychology\, crossing the threshold to meet our racial complexes\, the best way to proceed is gently. As our collective engages and struggles with issues of mortality\, violence and racial relations\, we are all affected in the most profound ways.  Talking with one another\, the hallmark of depth psychology\, has always been a path to considerations of healing and wholeness.  It can also teach us more about compassion as we begin to understand the human narrative of those we consider “Other”.  Let us talk to one another in a way that opens our hearts\, our deeper selves connected to personal racial complexes\, and archetypal energies. Let us spend time together investigating what we desire to learn\, engaging our ego and our unconscious shadowed selves\, and releasing our fears in service of deepening consciousness. \nDr. Brewster is a Jungian analyst and Professor of Depth Psychology at Pacifica Graduate Institute.  She is a writer of nonfiction including African Americans and Jungian Psychology: Leaving the Shadows ((Routledge\, 2017)\, Archetypal Grief:  Slavery’s Legacy of Intergenerational Child Loss (Routledge\, 2018) and The Racial Complex:  A Jungian Perspective on Culture and Race. (Routledge\, 2019) Her poems have been published in Psychological Perspectives Journal where she was the Featured Poet as well as in other journals. Dr. Brewster is a lecturer and workshop presenter on Jungian related topics that address American Culture\, Diversity and Creativity.  She is a faculty member at the New York C.G. Jung Foundation and an analyst member with the Philadelphia Association of Jungian Analysts. She has received two Gradiva Award nominations for her writing from the National Association for the Advancement of Psychoanalysis.
URL:https://www.jungcentralohio.org/event/the-racial-complex-a-conversation-on-racism-shadow-and-the-personal-unconscious-a-talk-with-fanny-brewster-ph-d-m-f-a/
ORGANIZER;CN="C.G. Jung Association of Central Ohio":MAILTO:jungaco@jungcentralohio.org
END:VEVENT
END:VCALENDAR