BEGIN:VCALENDAR
VERSION:2.0
PRODID:-//Jung Association of Central Ohio - ECPv6.3.1//NONSGML v1.0//EN
CALSCALE:GREGORIAN
METHOD:PUBLISH
X-ORIGINAL-URL:https://www.jungcentralohio.org
X-WR-CALDESC:Events for Jung Association of Central Ohio
REFRESH-INTERVAL;VALUE=DURATION:PT1H
X-Robots-Tag:noindex
X-PUBLISHED-TTL:PT1H
BEGIN:VTIMEZONE
TZID:America/New_York
BEGIN:DAYLIGHT
TZOFFSETFROM:-0500
TZOFFSETTO:-0400
TZNAME:EDT
DTSTART:20200308T070000
END:DAYLIGHT
BEGIN:STANDARD
TZOFFSETFROM:-0400
TZOFFSETTO:-0500
TZNAME:EST
DTSTART:20201101T060000
END:STANDARD
END:VTIMEZONE
BEGIN:VEVENT
DTSTART;TZID=America/New_York:20200908T000000
DTEND;TZID=America/New_York:20201110T090000
DTSTAMP:20260421T083443
CREATED:20200908T153853Z
LAST-MODIFIED:20201110T132559Z
UID:1969-1599523200-1604998800@www.jungcentralohio.org
SUMMARY:Dr. Karen Naifeh's Resources on Anti-Racism Studies
DESCRIPTION:From Dr. Naifeh’s August 20\, 2020 talk on Encountering the Other: The White Shadow \nNaifeh Antiracism Studies \nNaifeh Article Jung Journal Culture & Psyche  Encountering the Other
URL:https://www.jungcentralohio.org/event/dr-karen-naifehs-resources-on-anti-racism-studies/
ORGANIZER;CN="C.G. Jung Association of Central Ohio":MAILTO:jungaco@jungcentralohio.org
END:VEVENT
END:VCALENDAR