BEGIN:VCALENDAR
VERSION:2.0
PRODID:-//Jung Association of Central Ohio - ECPv6.3.1//NONSGML v1.0//EN
CALSCALE:GREGORIAN
METHOD:PUBLISH
X-ORIGINAL-URL:https://www.jungcentralohio.org
X-WR-CALDESC:Events for Jung Association of Central Ohio
REFRESH-INTERVAL;VALUE=DURATION:PT1H
X-Robots-Tag:noindex
X-PUBLISHED-TTL:PT1H
BEGIN:VTIMEZONE
TZID:America/New_York
BEGIN:DAYLIGHT
TZOFFSETFROM:-0500
TZOFFSETTO:-0400
TZNAME:EDT
DTSTART:20200308T070000
END:DAYLIGHT
BEGIN:STANDARD
TZOFFSETFROM:-0400
TZOFFSETTO:-0500
TZNAME:EST
DTSTART:20201101T060000
END:STANDARD
END:VTIMEZONE
BEGIN:VEVENT
DTSTART;TZID=America/New_York:20201114T010000
DTEND;TZID=America/New_York:20201122T233000
DTSTAMP:20260421T065922
CREATED:20201114T170724Z
LAST-MODIFIED:20201114T170724Z
UID:2398-1605315600-1606087800@www.jungcentralohio.org
SUMMARY:The Pandemic from a Jungian Perspective - A Video Recording of Dr. Richard Sweeney's October 2020 Bollingen Lecture
DESCRIPTION:The recording will be available at a Zoom cloud site until November 22. Scroll below to purchase access to it. Once you have completed this step we can send you the link\, where you can access and download the recording.
URL:https://www.jungcentralohio.org/event/the-pandemic-from-a-jungian-perspective-a-video-recording-of-dr-richard-sweeneys-october-2020-bollingen-lecture/
END:VEVENT
BEGIN:VEVENT
DTSTART;TZID=America/New_York:20201120T193000
DTEND;TZID=America/New_York:20201120T203000
DTSTAMP:20260421T065922
CREATED:20201110T132047Z
LAST-MODIFIED:20201110T132047Z
UID:2358-1605900600-1605904200@www.jungcentralohio.org
SUMMARY:The Soul in Repose - A Healing Moment to Lift Us Up
DESCRIPTION:Still waters that calm the mind. A resting place for all our troubled thoughts. \nIn the ending weeks of this anxious year\, John Schuster\, Jung student and friend of JACO\, will lead us in an interlude of healing thoughts\, poetry\, and music. This is a brief program\, only 40 minutes long\, and is being offered because a community focused on healing thoughts can act as a balm for the spirit. As a Friday night event we are thinking of it as an evening prayer for peace and serenity to hold us in the mantle of ever-present grace and a call to maintaining faith in our future. We hope very much that you can join us November 20 at 7:30 pm for a heartfelt community event. Because this is a Zoom presentation you will need to RSVP (scroll down to the rsvp) by noon November 20 in order for us to send you the link. We look forward to being together with you. \n 
URL:https://www.jungcentralohio.org/event/the-soul-in-repose-a-healing-moment-to-lift-us-up/
ORGANIZER;CN="C.G. Jung Association of Central Ohio":MAILTO:jungaco@jungcentralohio.org
END:VEVENT
END:VCALENDAR