BEGIN:VCALENDAR
VERSION:2.0
PRODID:-//Jung Association of Central Ohio - ECPv6.3.1//NONSGML v1.0//EN
CALSCALE:GREGORIAN
METHOD:PUBLISH
X-ORIGINAL-URL:https://www.jungcentralohio.org
X-WR-CALDESC:Events for Jung Association of Central Ohio
REFRESH-INTERVAL;VALUE=DURATION:PT1H
X-Robots-Tag:noindex
X-PUBLISHED-TTL:PT1H
BEGIN:VTIMEZONE
TZID:America/New_York
BEGIN:DAYLIGHT
TZOFFSETFROM:-0500
TZOFFSETTO:-0400
TZNAME:EDT
DTSTART:20200308T070000
END:DAYLIGHT
BEGIN:STANDARD
TZOFFSETFROM:-0400
TZOFFSETTO:-0500
TZNAME:EST
DTSTART:20201101T060000
END:STANDARD
END:VTIMEZONE
BEGIN:VEVENT
DTSTART;TZID=America/New_York:20201218T190000
DTEND;TZID=America/New_York:20201218T203000
DTSTAMP:20260421T053847
CREATED:20201124T143723Z
LAST-MODIFIED:20201125T003244Z
UID:2427-1608318000-1608323400@www.jungcentralohio.org
SUMMARY:Jung\, Astrology\, and the Star of Bethlehem - Presented by Dr. Jay Young
DESCRIPTION:Because this is a Zoom event we ask that you purchase your ticket by noon December 18 so that we can the link to you in time. Scroll down to purchase ticket. Member price applies to members of JACO\, First Community\, First Congregational\, King Avenue Methodist and Unitarian Universalist \nFor two thousand years Christians have puzzled over the mystery of the Star of Bethlehem\, mentioned only in the Gospel of Matthew and seen only by “Magi” arriving unexpectedly in Jerusalem with a startling question: “Where is he that is born King of the Jews?” Contemporary scholars believe the Magi were respected Persian astrologers – advisors to royalty – who recognized a truly magnificent astrological portent. While the Star may have been a myth or miracle\, we will attempt to unravel its mystery from the astrological and astronomical perspective of a “Wise Man” alive at the time of Jesus’ birth. Additionally\, the unfolding story of the nativity will be connected to Jung’s notion of synchronicity and the archetypes. \n“The starry vault of heaven is in truth the open book of cosmic projection\, in which are reflected the archetypes. In this vision\, astrology and alchemy are the two classical functionaries of the psychology of the collective unconscious.” – C.G. Jung \nJoin Dr. Jay Young\, former Ohio Dominican University faculty member\, clinical counselor and a lifelong avid amateur astronomer\, on a unique journey that will forever change the way you view the holiday nighttime sky. \n 
URL:https://www.jungcentralohio.org/event/jung-astrology-and-the-star-of-bethlehem-presented-by-dr-jay-young/
ORGANIZER;CN="C.G. Jung Association of Central Ohio":MAILTO:jungaco@jungcentralohio.org
END:VEVENT
END:VCALENDAR