BEGIN:VCALENDAR
VERSION:2.0
PRODID:-//Jung Association of Central Ohio - ECPv6.3.1//NONSGML v1.0//EN
CALSCALE:GREGORIAN
METHOD:PUBLISH
X-ORIGINAL-URL:https://www.jungcentralohio.org
X-WR-CALDESC:Events for Jung Association of Central Ohio
REFRESH-INTERVAL;VALUE=DURATION:PT1H
X-Robots-Tag:noindex
X-PUBLISHED-TTL:PT1H
BEGIN:VTIMEZONE
TZID:America/New_York
BEGIN:DAYLIGHT
TZOFFSETFROM:-0500
TZOFFSETTO:-0400
TZNAME:EDT
DTSTART:20210314T070000
END:DAYLIGHT
BEGIN:STANDARD
TZOFFSETFROM:-0400
TZOFFSETTO:-0500
TZNAME:EST
DTSTART:20211107T060000
END:STANDARD
END:VTIMEZONE
BEGIN:VEVENT
DTSTART;TZID=America/New_York:20210213T100000
DTEND;TZID=America/New_York:20210213T120000
DTSTAMP:20260421T024434
CREATED:20210203T014942Z
LAST-MODIFIED:20210203T014942Z
UID:2545-1613210400-1613217600@www.jungcentralohio.org
SUMMARY:A Non-Dual\, Devotional Path: The Psycho-Spiritual\, Jung-friendly Path of David Hawkins - John Schuster with Phil Meeks
DESCRIPTION:“Man cannot stand a meaningless life.”  Carl Jung \nMost of us entertain the questions of transcendence even as we lean into the daily realities of life—making a living\, doing some good in the world\, attending to family and friends. These questions come wrapped in any role we take on: careers\, parenting\, grand-parenting\, citizenry\, and church involvement. \nSuch questions do not have ready-made answers; likewise\, questions such as where might I find a spiritual path that resonates for me? \nOne source of wisdom in exploring these questions is David Hawkins\, whose popular book Power vs. Force\, offers unique insights. For two long term JACO members (bios below) Hawkins’ writings have made major contributions to their inner life.  Hawkins’ works and thinking will guide our conversation together\, which will have a definite spiritual slant and touch on the non-dual perspectives. \nWe hope you can join us for this insightful\, illuminating discussion.\nTHIS IS A FREE PROGRAM\, ON ZOOM. PLEASE EMAIL jungaco@jungcentralohio.org to receive the link\n \nJohn is an author\, coach\, and teacher\, a former JACO board member and co-traveler on the path. He has an MA in Jungian Psychology and his books include one on purpose (Answering Your Call) and one on recontextualize our pasts so we can free escape the negatives and learn what lessons they hold.  He sings\, plays guitar\, gardens and is a grandpa\, and does what he can to help others find that original Self under the acquired self. Phil is a charter member of JACO and early board chair.  He became a clinical social worker after a career as an international executive.   He has been studying Hawkins for the past 10 years. \n 
URL:https://www.jungcentralohio.org/event/a-non-dual-devotional-path-the-psycho-spiritual-jung-friendly-path-of-david-hawkins-john-schuster-with-phil-meeks/
ORGANIZER;CN="C.G. Jung Association of Central Ohio":MAILTO:jungaco@jungcentralohio.org
END:VEVENT
END:VCALENDAR