BEGIN:VCALENDAR
VERSION:2.0
PRODID:-//Jung Association of Central Ohio - ECPv6.3.1//NONSGML v1.0//EN
CALSCALE:GREGORIAN
METHOD:PUBLISH
X-ORIGINAL-URL:https://www.jungcentralohio.org
X-WR-CALDESC:Events for Jung Association of Central Ohio
REFRESH-INTERVAL;VALUE=DURATION:PT1H
X-Robots-Tag:noindex
X-PUBLISHED-TTL:PT1H
BEGIN:VTIMEZONE
TZID:America/New_York
BEGIN:DAYLIGHT
TZOFFSETFROM:-0500
TZOFFSETTO:-0400
TZNAME:EDT
DTSTART:20210314T070000
END:DAYLIGHT
BEGIN:STANDARD
TZOFFSETFROM:-0400
TZOFFSETTO:-0500
TZNAME:EST
DTSTART:20211107T060000
END:STANDARD
END:VTIMEZONE
BEGIN:VEVENT
DTSTART;TZID=America/New_York:20210814T100000
DTEND;TZID=America/New_York:20210814T120000
DTSTAMP:20260420T165850
CREATED:20210730T153520Z
LAST-MODIFIED:20210803T021343Z
UID:2884-1628935200-1628942400@www.jungcentralohio.org
SUMMARY:Dreams\, Fantasy\, and Art-Making: Revealing The Archetypal Themes Guiding Our Lives - A Second Saturday with Maggi Colwell\, MS Art Therapy
DESCRIPTION:This will be a Zoom program that is free. However\, to receive the Zoom link\, please RSVP below. We very much hope to see you.  \n“My speech is imperfect. Not because I want to shine with words\, but out of the impossibility of finding those words\, I speak in images. With nothing else to express the words from the depths.”        ~Carl Jung\, “The Red Book” \nBefore we thought in words\, we perceived our reality in images.  Whether in dreams\, fantasy\, or art making\, we image-ine our worlds and ourselves through images.  Images hint and reveal the archetypal themes guiding our lives.  In art therapy\, images guide our conscious mind to attune with the inner workings of the unfolding of the Self. \nMaggi will discuss how images give us clues to the archetypal workings in our lives through dreams and art therapy.  They will lead us in an art therapy exercise for engaging in dialog with your own images. \nMaterials needed:  paper and drawing materials (may be pen\, pencil\, highlighters\, markers\, etc.) No artistic talent necessary! \nMaggi Colwell is an art therapist in private practice in Columbus.  They offer art therapy\, dream groups\, and dream pattern\nanalysis.  https://columbusarttherapy.com. They have a MS in art therapy from Florida State University and a masters level dream pattern analysis certificate from the Assisi Institute.
URL:https://www.jungcentralohio.org/event/dreams-fantasy-art-making-revealing-the-archetypal-themes-guiding-our-lives-a-second-saturday-with-maggi-colwell/
ORGANIZER;CN="C.G. Jung Association of Central Ohio":MAILTO:jungaco@jungcentralohio.org
END:VEVENT
END:VCALENDAR