BEGIN:VCALENDAR
VERSION:2.0
PRODID:-//Jung Association of Central Ohio - ECPv6.3.1//NONSGML v1.0//EN
CALSCALE:GREGORIAN
METHOD:PUBLISH
X-WR-CALNAME:Jung Association of Central Ohio
X-ORIGINAL-URL:https://www.jungcentralohio.org
X-WR-CALDESC:Events for Jung Association of Central Ohio
REFRESH-INTERVAL;VALUE=DURATION:PT1H
X-Robots-Tag:noindex
X-PUBLISHED-TTL:PT1H
BEGIN:VTIMEZONE
TZID:America/New_York
BEGIN:DAYLIGHT
TZOFFSETFROM:-0500
TZOFFSETTO:-0400
TZNAME:EDT
DTSTART:20210314T070000
END:DAYLIGHT
BEGIN:STANDARD
TZOFFSETFROM:-0400
TZOFFSETTO:-0500
TZNAME:EST
DTSTART:20211107T060000
END:STANDARD
END:VTIMEZONE
BEGIN:VEVENT
DTSTART;TZID=America/New_York:20210911T100000
DTEND;TZID=America/New_York:20210911T120000
DTSTAMP:20260420T152548
CREATED:20210826T214445Z
LAST-MODIFIED:20210831T012619Z
UID:2965-1631354400-1631361600@www.jungcentralohio.org
SUMMARY:Aroma\, Psyche\, & Body: Creating New Narratives\, with Erika Galentin
DESCRIPTION:This is a free zoom event. Please RSVP below no later than 9:30 am 9/11/2021.  A  zoom link then will be sent to you.  The pdf flier can be found at this link: erika 2nd Sat Sept 11 \nHere as well is a program description: \n“It has always been the prime function of mythology and rite to supply the  symbols that carry the human spirit forward\, in counteraction to those that tend to tie it back.” Joseph Campbell\,\nThe Hero With a Thousand Faces \nJoin medical herbalist Erika Galentin\, MNIMH\, RH (AHG) of Sovereignty Herbs for a lecture exploring the role of plant-based aromas as useful tools for supporting the psyche and our journey towards what Carl Jung referred to as individuation. We will begin with a brief tour of the inner workings of our sense of smell\, how aromas are perceived\, and their direct influence on our\nmemories and emotions. This will be followed by a discussion on how emotions such as grief and shame can have significant impacts on how our bodies function. We will also explore how we can use aroma from plants to create new memories and emotions through the myths\, metaphors\, and stories they can carry directly to the psyche. Lastly\, Erika will explore how aroma from plants can be incorporated into daily acts of self-empathy. \nErika is a MNIMH\, RH(AHG) Clinical Herbalist and an ITEC certified Clinical Aromatherapist consulting from Sovereignty Herbs in Athens & Columbus\, OH. She holds a degree in Herbal Medicine from the University of Wales\, Cardiff\, UK and Scottish School of Herbal Medicine\, Glasgow\, UK. She is a professional member of the National Institute of Medical Herbalists (UK) and the American Herbalists Guild (USA). She is also a proud member of Pi Alpha Xi National Honor Society in Horticulture (USA). With her dedication to medicinal plants native to Ohio and the Greater Appalachian region\, Erika teaches\, lectures\, and writes on native medicinal plant conservation and applied ecology\, propagation\, herbalism\, and clinical efficacy. She also participates as a member of the Education Advisory Committee of the American Herbalists Guild as well as the Stewardship Committee of Appalachia Ohio Alliance\, a non-profit organization dedicated to the conservation of land and water in Southeast Ohio. She is the author of The Family Guide to Aromatherapy: A Safe Approach to Essential Oils for a Holistic Home \n  \n  \n 
URL:https://www.jungcentralohio.org/event/aroma-psyche-body-creating-new-narratives-with-erika-galentin/
ORGANIZER;CN="C.G. Jung Association of Central Ohio":MAILTO:jungaco@jungcentralohio.org
END:VEVENT
END:VCALENDAR