BEGIN:VCALENDAR
VERSION:2.0
PRODID:-//Jung Association of Central Ohio - ECPv6.3.1//NONSGML v1.0//EN
CALSCALE:GREGORIAN
METHOD:PUBLISH
X-ORIGINAL-URL:https://www.jungcentralohio.org
X-WR-CALDESC:Events for Jung Association of Central Ohio
REFRESH-INTERVAL;VALUE=DURATION:PT1H
X-Robots-Tag:noindex
X-PUBLISHED-TTL:PT1H
BEGIN:VTIMEZONE
TZID:America/New_York
BEGIN:DAYLIGHT
TZOFFSETFROM:-0500
TZOFFSETTO:-0400
TZNAME:EDT
DTSTART:20210314T070000
END:DAYLIGHT
BEGIN:STANDARD
TZOFFSETFROM:-0400
TZOFFSETTO:-0500
TZNAME:EST
DTSTART:20211107T060000
END:STANDARD
END:VTIMEZONE
BEGIN:VEVENT
DTSTART;VALUE=DATE:20211029
DTEND;VALUE=DATE:20211030
DTSTAMP:20260420T134400
CREATED:20211029T181610Z
LAST-MODIFIED:20220927T152053Z
UID:3194-1635465600-1635551999@www.jungcentralohio.org
SUMMARY:The 2022 Annual Bauza Lecture Presented by Dr. Richard Sweeney
DESCRIPTION:The Bauza Lecture\, April 2022 brings a special in-person\, two-hour Bauza annual program presented by the venerable Dr. Richard Sweeney\, in honor of JACO Board member\, Donice Wooster\, who has contributed invaluable time\, talent and leadership to our organization. Dr. Sweeney’s talk will draw powerful lessons from the Brothers Grimm fairy tale Dummling and the Three Feathers\, one of Donice’s favorites.  More information will be available as we move into 2022.
URL:https://www.jungcentralohio.org/event/the-2022-annual-bauza-lecture-presented-by-dr-richard-sweeney/
END:VEVENT
END:VCALENDAR