BEGIN:VCALENDAR
VERSION:2.0
PRODID:-//Jung Association of Central Ohio - ECPv6.3.1//NONSGML v1.0//EN
CALSCALE:GREGORIAN
METHOD:PUBLISH
X-ORIGINAL-URL:https://www.jungcentralohio.org
X-WR-CALDESC:Events for Jung Association of Central Ohio
REFRESH-INTERVAL;VALUE=DURATION:PT1H
X-Robots-Tag:noindex
X-PUBLISHED-TTL:PT1H
BEGIN:VTIMEZONE
TZID:America/New_York
BEGIN:DAYLIGHT
TZOFFSETFROM:-0500
TZOFFSETTO:-0400
TZNAME:EDT
DTSTART:20220313T070000
END:DAYLIGHT
BEGIN:STANDARD
TZOFFSETFROM:-0400
TZOFFSETTO:-0500
TZNAME:EST
DTSTART:20221106T060000
END:STANDARD
END:VTIMEZONE
BEGIN:VEVENT
DTSTART;TZID=America/New_York:20220131T080000
DTEND;TZID=America/New_York:20220228T170000
DTSTAMP:20260420T074621
CREATED:20220126T222736Z
LAST-MODIFIED:20220126T222736Z
UID:3514-1643616000-1646067600@www.jungcentralohio.org
SUMMARY:What is your favorite book in JACO’s Murtha Library collection?
DESCRIPTION:The Art & Library Committee invites members of JACO to share a one paragraph review of their favorite book\, which we hope to publish in the JACO newsletter.  Email your review to jungcentralohio.org     This is the catalog should you need to refresh your memory:   JACO Library Catalog \nDue to covid\, the library is not yet open for browsing. Email jungaco@jungcentralohio.org if you have an interest in the library collection\, which is available to members.
URL:https://www.jungcentralohio.org/event/what-is-your-favorite-book-in-jacos-murtha-library-collection/
ORGANIZER;CN="C.G. Jung Association of Central Ohio":MAILTO:jungaco@jungcentralohio.org
END:VEVENT
BEGIN:VEVENT
DTSTART;TZID=America/New_York:20220226T100000
DTEND;TZID=America/New_York:20220226T120000
DTSTAMP:20260420T074621
CREATED:20211029T180228Z
LAST-MODIFIED:20220217T155509Z
UID:3185-1645869600-1645876800@www.jungcentralohio.org
SUMMARY:Van Gogh: Madness and Creativity – The Major Complexes that Governed his Life\, Presented  by Kathy Cleveland Bull
DESCRIPTION:Former Board member Kathy Cleveland Bull\, who is exceptionally well-versed about artist Vincent Van Gogh\, will discuss his life in the context of Jungian psychology. This program follows the Van Gogh Immersion and Columbus Museum of Art Van Gogh exhibits\, so the timing is perfect! This is the second of a two-part program. It will go more deeply into the psychological dimensions of Van Gogh’s life. The applause after Kathy’s presentation of the first part was thunderous and sustained.  The registration fee is $20\, discounted to $15 for JACO members. Scroll below to register. This is an in-person event at First Community South 1320 Cambridge Blvd 43212 \nKathy Van Gogh Flier  \n 
URL:https://www.jungcentralohio.org/event/do-you-know-van-gogh-presented-by-kathy-cleveland-bull/
LOCATION:First Community\, 1320 Cambridge Blvd.\, Columbus\, Ohio 43212
ORGANIZER;CN="C.G. Jung Association of Central Ohio":MAILTO:jungaco@jungcentralohio.org
END:VEVENT
END:VCALENDAR