BEGIN:VCALENDAR
VERSION:2.0
PRODID:-//Jung Association of Central Ohio - ECPv6.3.1//NONSGML v1.0//EN
CALSCALE:GREGORIAN
METHOD:PUBLISH
X-WR-CALNAME:Jung Association of Central Ohio
X-ORIGINAL-URL:https://www.jungcentralohio.org
X-WR-CALDESC:Events for Jung Association of Central Ohio
REFRESH-INTERVAL;VALUE=DURATION:PT1H
X-Robots-Tag:noindex
X-PUBLISHED-TTL:PT1H
BEGIN:VTIMEZONE
TZID:America/New_York
BEGIN:DAYLIGHT
TZOFFSETFROM:-0500
TZOFFSETTO:-0400
TZNAME:EDT
DTSTART:20230312T070000
END:DAYLIGHT
BEGIN:STANDARD
TZOFFSETFROM:-0400
TZOFFSETTO:-0500
TZNAME:EST
DTSTART:20231105T060000
END:STANDARD
END:VTIMEZONE
BEGIN:VEVENT
DTSTART;TZID=America/New_York:20230802T080000
DTEND;TZID=America/New_York:20231031T170000
DTSTAMP:20260420T045616
CREATED:20230802T225425Z
LAST-MODIFIED:20230802T225544Z
UID:5765-1690963200-1698771600@www.jungcentralohio.org
SUMMARY:Virtual Art Gallery Show - Remedios Varo
DESCRIPTION:Remedios Varo\, born in Spain\, found her palette come alive in Mexico\, where magical realism was a creative host to her surrealistic compositions. She wove into her paintings a wide range of religious\, mystic and hermetic traditions\, as well as animistic faiths. She was learned in the sciences yet incorporated with equal interest the ideas of Carl Jung\, Meister Eckhart\, and the Sufis. She saw in each of these an avenue to self-knowledge and the transformation of consciousness.\nTo learn more and to view Varo’s work\, please visit the Art Gallery at this location:  https://www.jungcentralohio.org/gallery/ \n 
URL:https://www.jungcentralohio.org/event/virtual-art-gallery-show-remedios-varo/
END:VEVENT
BEGIN:VEVENT
DTSTART;TZID=America/New_York:20230819T100000
DTEND;TZID=America/New_York:20230819T120000
DTSTAMP:20260420T045616
CREATED:20230807T140756Z
LAST-MODIFIED:20230807T141519Z
UID:5779-1692439200-1692446400@www.jungcentralohio.org
SUMMARY:Dream Group Workshop
DESCRIPTION:This is a free program but RSVP below to receive the link. \nOne of the things people have asked JACO is recommending local dream groups in which they can participate.  The community has been involved in several dream groups in the past and many are interested in reconnecting. \nAfter our initial meeting\, we have found that there are people interested in forming groups\, in person and online.  Our next workshop on dream groups will be led by Janice Bachman and Maggi Colwell.  The meeting will include the following: \n\nGathering information to get interested people connected to those willing to host and facilitate\nDemonstrating on how a lay person group would work through a dream.\nBackground context for how to approach dream content.\n\nAll are welcome.  No experience needed. \nMaggi Colwell\, MS\, ATR-BC is a Jungian oriented art therapist in private practice in Columbus Ohio.  Their final graduate community project at Florida State University focused on dreams in an art therapy group setting. They received a masters level dream pattern analysis certificate from the Assisi Institute. Maggi is currently continuing their studies at the CG Jung Institute Zurich as a training candidate. \nJanice Bachman\, a Jungian psychoanalyst in practice in the Greater Columbus area\, has offered several dream workshops for JACO members and has worked with a variety of groups focused on interpreting their dreams as a way of accessing a deeper meaning in their lives.
URL:https://www.jungcentralohio.org/event/dream-group-workshop/
ORGANIZER;CN="C.G. Jung Association of Central Ohio":MAILTO:jungaco@jungcentralohio.org
END:VEVENT
END:VCALENDAR