BEGIN:VCALENDAR
VERSION:2.0
PRODID:-//Jung Association of Central Ohio - ECPv6.3.1//NONSGML v1.0//EN
CALSCALE:GREGORIAN
METHOD:PUBLISH
X-WR-CALNAME:Jung Association of Central Ohio
X-ORIGINAL-URL:https://www.jungcentralohio.org
X-WR-CALDESC:Events for Jung Association of Central Ohio
REFRESH-INTERVAL;VALUE=DURATION:PT1H
X-Robots-Tag:noindex
X-PUBLISHED-TTL:PT1H
BEGIN:VTIMEZONE
TZID:America/New_York
BEGIN:DAYLIGHT
TZOFFSETFROM:-0500
TZOFFSETTO:-0400
TZNAME:EDT
DTSTART:20240310T070000
END:DAYLIGHT
BEGIN:STANDARD
TZOFFSETFROM:-0400
TZOFFSETTO:-0500
TZNAME:EST
DTSTART:20241103T060000
END:STANDARD
END:VTIMEZONE
BEGIN:VEVENT
DTSTART;TZID=America/New_York:20240305T000000
DTEND;TZID=America/New_York:20241002T123000
DTSTAMP:20260420T095652
CREATED:20240305T181649Z
LAST-MODIFIED:20241002T165454Z
UID:6570-1709596800-1727872200@www.jungcentralohio.org
SUMMARY:A Tribute to JACO Artist Claire Hagan-Bauza in Honor of JACO's 35th Anniversary
DESCRIPTION:Claire is one of JACO’s founders and established the art gallery at the very start of JACO’s creation. She is a beloved guiding star.  Thirty-five pieces from her body of work were chosen to honor JACO’s 35th anniversary. Click here to see the exhibit of her artwork – a diverse\, rich\, wondrous\, luminous collection. \n 
URL:https://www.jungcentralohio.org/event/a-tribute-to-jaco-artist-claire-hagan-bauza-in-honor-of-jacos-35th-anniversary/
ORGANIZER;CN="C.G. Jung Association of Central Ohio":MAILTO:jungaco@jungcentralohio.org
END:VEVENT
BEGIN:VEVENT
DTSTART;TZID=America/New_York:20240913T090000
DTEND;TZID=America/New_York:20241002T123000
DTSTAMP:20260420T095652
CREATED:20240810T165035Z
LAST-MODIFIED:20241002T165354Z
UID:6799-1726218000-1727872200@www.jungcentralohio.org
SUMMARY:Jung’s Psychology of the Complexes:  A Program for Mental Health Professionals
DESCRIPTION:We are once again honored to make available a program for mental health professionals; this year focusing on the issue of Jung’s Psychology of the Complexes.  As many of you know\, this clinical program was begun by one of our founders\, Dick Sweeney\, a number of years ago.  We have been fortunate that the program has continued under the tutelage of psychologist and Jungian analyst\, James Fidelibus\, Ph.D.  This year the  program will run from September 13\, through December 6\, 2024\, and consist of 7 two-hour sessions (9-11 am) for a total of 14 continuing education units.  It is being offered by Zoom only. Dr. Fidelibus will delve into Jungian theory relative to the structure of  complexes as well as the relationships among personal complexes and the architecture of Jung’s model of the psyche.  He will also help develop insight into activation of complexes in various contexts (e.g.\, dreams\, therapeutic relationships). Please refer to the syllabus for more detailed information. Scroll below to register. \nComplexes Seminar Syllabus \n  \n 
URL:https://www.jungcentralohio.org/event/jungs-psychology-of-the-complexes-a-program-for-mental-health-professionals/
ORGANIZER;CN="C.G. Jung Association of Central Ohio":MAILTO:jungaco@jungcentralohio.org
END:VEVENT
END:VCALENDAR