BEGIN:VCALENDAR
VERSION:2.0
PRODID:-//Jung Association of Central Ohio - ECPv6.3.1//NONSGML v1.0//EN
CALSCALE:GREGORIAN
METHOD:PUBLISH
X-ORIGINAL-URL:https://www.jungcentralohio.org
X-WR-CALDESC:Events for Jung Association of Central Ohio
REFRESH-INTERVAL;VALUE=DURATION:PT1H
X-Robots-Tag:noindex
X-PUBLISHED-TTL:PT1H
BEGIN:VTIMEZONE
TZID:America/New_York
BEGIN:DAYLIGHT
TZOFFSETFROM:-0500
TZOFFSETTO:-0400
TZNAME:EDT
DTSTART:20190310T070000
END:DAYLIGHT
BEGIN:STANDARD
TZOFFSETFROM:-0400
TZOFFSETTO:-0500
TZNAME:EST
DTSTART:20191103T060000
END:STANDARD
END:VTIMEZONE
BEGIN:VEVENT
DTSTART;TZID=America/New_York:20190209T110000
DTEND;TZID=America/New_York:20190427T140000
DTSTAMP:20260422T093644
CREATED:20190213T202520Z
LAST-MODIFIED:20220927T152030Z
UID:991-1549710000-1556373600@www.jungcentralohio.org
SUMMARY:Current Art Exhibit
DESCRIPTION:The Primordial Language of Red\nPaintings by Donna Alena Hrabcakova\nFeb 9 – April 27\, 2019 (Tues-Sat from 11 am to 2 pm)\nCalling ahead is recommended: 614-291-8050\nSunday\, Feb 10 – Opening reception 2-4p\nArtist Talk at 2:30 \nhttps://www.jungcentralohio.org/gallery/
URL:https://www.jungcentralohio.org/event/current-art-exhibit/
ORGANIZER;CN="C.G. Jung Association of Central Ohio":MAILTO:jungaco@jungcentralohio.org
END:VEVENT
BEGIN:VEVENT
DTSTART;TZID=America/New_York:20190406T100000
DTEND;TZID=America/New_York:20190406T120000
DTSTAMP:20260422T093644
CREATED:20190319T134526Z
LAST-MODIFIED:20190319T134845Z
UID:1057-1554544800-1554552000@www.jungcentralohio.org
SUMMARY:GOETHE’S FAUST AND JUNG\, part 2
DESCRIPTION:JACO members\, Terry Malinowski and Sandy Pfening are offering a follow-up session to their initial presentation in February\, on Jung and Goethe’s Faust. The focus will be on discussing some of the key ideas from the story and how they relate to Jung and his work. Even if you missed the first session\, we think you will find it very interesting and informative. Free admission.
URL:https://www.jungcentralohio.org/event/goethes-faust-and-jung-part-2-saturday-april-6-10am-noon/
ORGANIZER;CN="C.G. Jung Association of Central Ohio":MAILTO:jungaco@jungcentralohio.org
END:VEVENT
BEGIN:VEVENT
DTSTART;TZID=America/New_York:20190420T100000
DTEND;TZID=America/New_York:20190420T120000
DTSTAMP:20260422T093644
CREATED:20190414T203356Z
LAST-MODIFIED:20190414T203356Z
UID:1074-1555754400-1555761600@www.jungcentralohio.org
SUMMARY:DREAM GROUP (No registration fee but Must PRE-REGISTER) Click on hyperlink
DESCRIPTION:In response to Janice Bachman’s January dream workshop\, a dream group is being formed\, which will meet the 3rd Saturday of each month beginning April 20\, 10am-noon\, at JungHaus. Group members will have an opportunity to present a dream for a thoughtful discussion leading to possibilities of meaning and interpretation. The group is limited in size and pre-registration is required. Contact JACO member\, Bill Coffman at 937.653-5054 or at bcoffman@woh.rr.com for more information or to register. c
URL:https://www.jungcentralohio.org/event/dream-group-no-registration-fee-but-must-pre-register-click-on-hyperlink/
ORGANIZER;CN="C.G. Jung Association of Central Ohio":MAILTO:jungaco@jungcentralohio.org
END:VEVENT
END:VCALENDAR