BEGIN:VCALENDAR
VERSION:2.0
PRODID:-//Jung Association of Central Ohio - ECPv6.3.1//NONSGML v1.0//EN
CALSCALE:GREGORIAN
METHOD:PUBLISH
X-ORIGINAL-URL:https://www.jungcentralohio.org
X-WR-CALDESC:Events for Jung Association of Central Ohio
REFRESH-INTERVAL;VALUE=DURATION:PT1H
X-Robots-Tag:noindex
X-PUBLISHED-TTL:PT1H
BEGIN:VTIMEZONE
TZID:America/New_York
BEGIN:DAYLIGHT
TZOFFSETFROM:-0500
TZOFFSETTO:-0400
TZNAME:EDT
DTSTART:20200308T070000
END:DAYLIGHT
BEGIN:STANDARD
TZOFFSETFROM:-0400
TZOFFSETTO:-0500
TZNAME:EST
DTSTART:20201101T060000
END:STANDARD
END:VTIMEZONE
BEGIN:VEVENT
DTSTART;TZID=America/New_York:20200403T190000
DTEND;TZID=America/New_York:20200403T210000
DTSTAMP:20260421T160457
CREATED:20200204T192741Z
LAST-MODIFIED:20200311T142847Z
UID:1798-1585940400-1585947600@www.jungcentralohio.org
SUMMARY:CANCELLED DUE TO CORONA VIRUS SITUATION - Imagination as a Path to Wisdom: Exploring Depth through Dreams and Images\, presented by Dr. Mary Harrell - a Friday Evening Lecture
DESCRIPTION:Program Description:  Dr. Mary Harrell Program Announcement\nTickets:  NOT AVAILABLE BECAUSE PROGRAM HAS BEEN CANCELLED DUE TO THE CORONA VIRUS SITUATION
URL:https://www.jungcentralohio.org/event/imagination-as-a-path-to-wisdom-exploring-depth-through-dreams-and-images-presented-by-dr-mary-harrell-a-friday-evening-lecture/
LOCATION:First Community\, 1320 Cambridge Blvd.\, Columbus\, Ohio 43212
ORGANIZER;CN="C.G. Jung Association of Central Ohio":MAILTO:jungaco@jungcentralohio.org
END:VEVENT
BEGIN:VEVENT
DTSTART;TZID=America/New_York:20200404T090000
DTEND;TZID=America/New_York:20200404T131500
DTSTAMP:20260421T160457
CREATED:20200204T193430Z
LAST-MODIFIED:20200311T142602Z
UID:1815-1585990800-1586006100@www.jungcentralohio.org
SUMMARY:CANCELLED DUE TO CORONA VIRUS SITUATION - A Saturday Morning Workshop: Imagination as a Path to Wisdom - Exploring Depth through Dreams and Images\, presented by Dr. Mary Harrell
DESCRIPTION:Program Description of Saturday workshop: Dr. Mary Harrell Program Announcement\nTickets: NOT AVAILABLE\, FOR THE PROGRAM HAS BEEN CANCELLED DUE TO THE CORONA VIRUS SITUATION
URL:https://www.jungcentralohio.org/event/a-saturday-morning-workshop-imagination-as-a-path-to-wisdom-exploring-depth-through-dreams-and-images-presented-by-dr-mary-harrell/
LOCATION:First Community\, 1320 Cambridge Blvd.\, Columbus\, Ohio 43212
ORGANIZER;CN="C.G. Jung Association of Central Ohio":MAILTO:jungaco@jungcentralohio.org
END:VEVENT
BEGIN:VEVENT
DTSTART;TZID=America/New_York:20200417T080000
DTEND;TZID=America/New_York:20200430T233000
DTSTAMP:20260421T160457
CREATED:20200417T204239Z
LAST-MODIFIED:20200417T204539Z
UID:1902-1587110400-1588289400@www.jungcentralohio.org
SUMMARY:JACO Newsletter Featuring Reflections on Covid 19
DESCRIPTION:Click on this link to bring up the newsletter:  https://myemail.constantcontact.com/Interview-with-Murray-Stein–a-world-shadow-COVID-19.html?soid=1132199571321&aid=FIaBlXe3ARw
URL:https://www.jungcentralohio.org/event/jaco-newsletter-featuring-reflections-on-covid-19/
END:VEVENT
BEGIN:VEVENT
DTSTART;TZID=America/New_York:20200417T080000
DTEND;TZID=America/New_York:20200430T233000
DTSTAMP:20260421T160457
CREATED:20200417T204452Z
LAST-MODIFIED:20200417T204452Z
UID:1904-1587110400-1588289400@www.jungcentralohio.org
SUMMARY:An Interview with Dr. Richard Sweeney on the Coronavirus Pandemic
DESCRIPTION:“I have been thinking\, like everyone else I am sure\, about tangible ways JACO can contribute something\, an offering of sorts\, to ease the fear and anxiety that people are feeling now in our community. Since we are unable to meet in person to support one another\, I envisioned a virtual chat with our Jungian Wisdom Guides. And who better to launch our series of conversations than our own beloved\, Dick Sweeney. This short 30-minute video is the first of what we hope will be several video chats that will provide context\, insight and illumination during this walk into unknown territory. In this first episode\, I ask Dick to help us understand what is going on\, and what am I to do about it!” – Kathy Cleveland Bull      \nhttps://www.youtube.com/watch?v=Cchf4It_E6o&t=7seflection
URL:https://www.jungcentralohio.org/event/an-interview-with-dr-richard-sweeney-on-the-coronavirus-pandemic/
END:VEVENT
BEGIN:VEVENT
DTSTART;TZID=America/New_York:20200427T000000
DTEND;TZID=America/New_York:20200527T233000
DTSTAMP:20260421T160457
CREATED:20200427T204744Z
LAST-MODIFIED:20200427T205228Z
UID:1909-1587945600-1590622200@www.jungcentralohio.org
SUMMARY:Wisdom Guide Interview with Virginia Macali: The Global Pandemic As a Larger Process of Change\, Transition and Impermanence.
DESCRIPTION:“It was my pleasure this past week to interview my good friend and fellow JACO Board Member\, Virginia Macali\, for our Wisdom Guide Interview Series! Many of you know Virginia and what clarity and insight she brings to her coaching clients and our community. We focused our conversation around viewing the global pandemic as a larger process of change\, transition and impermanence. Virginia shared a useful model and helpful personal practices that we can use to bolster us during such a powerful period of uncertainty. May we each take away a pearl from this strand of reflection and wisdom.”   Kathy Cleveland Bull\, member of the C.G. Jung Association of Central Ohio Board \nClick here for the interview:   https://www.youtube.com/watch?v=l9cySqp8sTw&feature=youtu.be \nKathy is a professional speaker\, trainer\, organizational consultant and life/career coach.  Her company\, NCompass Consulting\, helps clients around the world navigate the art and science of change.  She is a Phi Beta Kappa psychology graduate from Bowling Green and holds two master’s degrees – in college student development and in counseling. She has been a life-long student of psychology and for the last 20 years has focused on depth psychology and the work of CG Jung. \nVirginia Macali\, JD\, MS\, founded High Point Transitions\, LLC to support awareness\, change and growth in individuals. She helps people make successful transitions\, have impact\, and enjoy greater fulfillment. Virginia designs and delivers programs and coaching for emerging leaders and managers\, as they utilize strengths\, advance their work in a balanced way\, and contribute to what they care about. Virginia also works with pre-retirees to determine retirement readiness\, explore options\, design an exit strategy\, make a succession plan\, and create a concrete yet flexible plan for the what’s next. She provides resources for decision-making\, project completion\, capturing knowledge\, and making a smooth transition into the future. Her work focuses on the non-financial aspects of retirement\, including how to decide the right time to retire\, whether to work\, how to stay connected\, how to find new opportunities\, and how to live with meaning and purpose.
URL:https://www.jungcentralohio.org/event/wisdom-guide-interview-with-virginia-macali-the-global-pandemic-as-a-larger-process-of-change-transition-and-impermanence/
ORGANIZER;CN="C.G. Jung Association of Central Ohio":MAILTO:jungaco@jungcentralohio.org
END:VEVENT
END:VCALENDAR