BEGIN:VCALENDAR
VERSION:2.0
PRODID:-//Jung Association of Central Ohio - ECPv6.3.1//NONSGML v1.0//EN
CALSCALE:GREGORIAN
METHOD:PUBLISH
X-ORIGINAL-URL:https://www.jungcentralohio.org
X-WR-CALDESC:Events for Jung Association of Central Ohio
REFRESH-INTERVAL;VALUE=DURATION:PT1H
X-Robots-Tag:noindex
X-PUBLISHED-TTL:PT1H
BEGIN:VTIMEZONE
TZID:America/New_York
BEGIN:DAYLIGHT
TZOFFSETFROM:-0500
TZOFFSETTO:-0400
TZNAME:EDT
DTSTART:20210314T070000
END:DAYLIGHT
BEGIN:STANDARD
TZOFFSETFROM:-0400
TZOFFSETTO:-0500
TZNAME:EST
DTSTART:20211107T060000
END:STANDARD
END:VTIMEZONE
BEGIN:VEVENT
DTSTART;TZID=America/New_York:20210214T110000
DTEND;TZID=America/New_York:20210313T233000
DTSTAMP:20260420T233845
CREATED:20210214T155122Z
LAST-MODIFIED:20210214T155306Z
UID:2571-1613300400-1615678200@www.jungcentralohio.org
SUMMARY:Recording of the February 13 Program  A Non-Dual\, Devotional Path: The Psycho-Spiritual\, Jung-friendly Path of David Hawkins -  Presented by John Schuster with Phil Meeks 
DESCRIPTION:This is the access link to the recording of the February 13 program  A Non-Dual\, Devotional Path: The Psycho-Spiritual\, Jung-friendly Path of David Hawkins –  Presented by John Schuster with Phil Meeks  The link will be available until March 13\, 2021. It can be downloaded to your computer though. \nHere is the link:  https://zoom.us/rec/share/0kJASnS2Cg4v0kpXToZTMIMmsJz5a4vFCKzbMJXb1VoEmCJYCosypETjqryem1Ai.S6LbZ-6GYYMGRmIw?startTime=1613228812000 \nThis is the program description: \n“Man cannot stand a meaningless life.”  Carl Jung \nMost of us entertain the questions of transcendence even as we lean into the daily realities of life—making a living\, doing some good in the world\, attending to family and friends. These questions come wrapped in any role we take on: careers\, parenting\, grand-parenting\, citizenry\, and church involvement. \nSuch questions do not have ready-made answers; likewise\, questions such as where might I find a spiritual path that resonates for me? \nOne source of wisdom in exploring these questions is David Hawkins\, whose popular book Power vs. Force\, offers unique insights. For two long term JACO members (bios below) Hawkins’ writings have made major contributions to their inner life.  Hawkins’ works and thinking will guide our conversation together\, which will have a definite spiritual slant and touch on the non-dual perspectives. \nJohn is an author\, coach\, and teacher\, a former JACO board member and co-traveler on the path. He has an MA in Jungian Psychology and his books include one on purpose (Answering Your Call) and one on recontextualize our pasts so we can free escape the negatives and learn what lessons they hold.  He sings\, plays guitar\, gardens and is a grandpa\, and does what he can to help others find that original Self under the acquired self. Phil is a charter member of JACO and early board chair.  He became a clinical social worker after a career as an international executive.   He has been studying Hawkins for the past 10 years. \n 
URL:https://www.jungcentralohio.org/event/recording-of-the-february-13-program-a-non-dual-devotional-path-the-psycho-spiritual-jung-friendly-path-of-david-hawkins-presented-by-john-schuster-with-phil-meeks/
ORGANIZER;CN="C.G. Jung Association of Central Ohio":MAILTO:jungaco@jungcentralohio.org
END:VEVENT
BEGIN:VEVENT
DTSTART;TZID=America/New_York:20210314T070000
DTEND;TZID=America/New_York:20210328T233000
DTSTAMP:20260420T233845
CREATED:20210314T133754Z
LAST-MODIFIED:20210314T134214Z
UID:2629-1615705200-1616974200@www.jungcentralohio.org
SUMMARY:Slideshow from a March 13\, 2001 Second Saturday Exploration of the Enneagram Presented by Dr. Belinda Gore
DESCRIPTION:THOUGH THE DATE FOR THIS PROGRAM HAS PASSED (IT WAS SATURDAY MARCH 13)\, DR. BELINDA GORE IS MAKING AVAILABLE FOR A TIME\, THE POWERPOINT SLIDES OF HER PRESENTATION: A Second Saturday Exploration of the Enneagram – scroll to the end of the following descriptive information to access the slideshow. \nYou may visit the Enneagram Institute web site (https://www.enneagraminstitute.com/) where you can take a questionnaire for $12.  You will get pages of information when the results are returned to you by the Institute (almost immediately). \nWhat is the Enneagram? The Enneagram is a map of personality types and a dynamic description of how personality develops. The name\, Enneagram\, has its origin in the Greek words “ennea” related to nine and gram meaning “a model.” The Enneagram symbol is a circle with nine equidistant points around the circumference.  These points identify nine personality type structures that are archetypal\, relevant to all people. Dr. Gore discussed the enneagram types as nine ways of balancing the three Centers of Intelligence from Gurdjieff’s teaching: the Belly or Moving Center\, the Heart or Feeling Center\, and the Head or Thinking Center. \nBelinda’s focus is teaching and guiding practices for living the awakened life.  In coaching\, workshops\, and yearlong trainings her work brings together the Enneagram\, the practice of Presence\, Ancient Ritual Postures\, and art as an expression of the personal and collective spiritual journey. Belinda is an inspired teacher as well as a psychologist\, a coach\, and an artist.  The basis of her spiritual teaching is a practice that uses ancient ritual postures from the artwork of indigenous people around the world to access the world of spirit.  It is the subject of two of her books and much of her art.  She is also an expert in the Enneagram\, teaching workshops internationally and virtual courses online.   Her area of special interest is the development of personality through relationships as understood through Object Relations theory.  Belinda is also a partner and senior faculty with The Deep Coaching Institute\, a coaching school that trains coaches to use the Enneagram and a methodology based on somatic awareness and deep acceptance.  The Deep Coaching approach guides clients in becoming more present and thereby experiencing Presence\, the basis of the awakened life. \nBelinda Gore Enneagram Slides \n 
URL:https://www.jungcentralohio.org/event/slideshow-from-a-march-13-2001-second-saturday-exploration-of-the-enneagram-presented-by-dr-belinda-gore/
END:VEVENT
END:VCALENDAR