BEGIN:VCALENDAR
VERSION:2.0
PRODID:-//Jung Association of Central Ohio - ECPv6.3.1//NONSGML v1.0//EN
CALSCALE:GREGORIAN
METHOD:PUBLISH
X-WR-CALNAME:Jung Association of Central Ohio
X-ORIGINAL-URL:https://www.jungcentralohio.org
X-WR-CALDESC:Events for Jung Association of Central Ohio
REFRESH-INTERVAL;VALUE=DURATION:PT1H
X-Robots-Tag:noindex
X-PUBLISHED-TTL:PT1H
BEGIN:VTIMEZONE
TZID:America/New_York
BEGIN:DAYLIGHT
TZOFFSETFROM:-0500
TZOFFSETTO:-0400
TZNAME:EDT
DTSTART:20210314T070000
END:DAYLIGHT
BEGIN:STANDARD
TZOFFSETFROM:-0400
TZOFFSETTO:-0500
TZNAME:EST
DTSTART:20211107T060000
END:STANDARD
END:VTIMEZONE
BEGIN:VEVENT
DTSTART;TZID=America/New_York:20211001T190000
DTEND;TZID=America/New_York:20211001T210000
DTSTAMP:20260420T120748
CREATED:20210729T171813Z
LAST-MODIFIED:20210831T012349Z
UID:2870-1633114800-1633122000@www.jungcentralohio.org
SUMMARY:Bollingen Lecture: Human Dilemmas and the Everyday Truths of Folk Tales
DESCRIPTION:Click to see flier\, though program is described here as well.          rosenbarger flier 3 \nScroll below to register (buy ticket). The registration fee covers both Friday and Saturday. Registration closes at midnight September 29 so that we can be sure registrants get their zoom links. The member ticket applies to members of the Central Ohio Jung Association; First Community Church; First Unitarian Universalist Church; First Congregational Church; and King Avenue Methodist Church. There is no charge for member CEU’s; however\, members must request their CEU via the RSVP below. \nAccording to the renowned Jungian analyst and scholar\, Marie Louise von Franz\, “since fairy tales through the world disclose certain common themes and structures\, we may assume that they spring from the most universal substrate of the human psyche.”  It is for this reason that fairy and folk tales portray frequent human dilemmas\, the situations that give rise to them\, and paths toward their resolution.  Faced as we are at this time in our lives with serious personal\, cultural and global conflicts\, the everyday truths of fairy tales can offer us much needed wisdom and guidance.  In this weekend program we will rely upon some of these tales to focus our attention on the archetypal or universal patterns\, symbols and energies that are emerging today.  Our hope is that this access to the symbolic meaning of folk tales will enable us to participate in a more conscious and responsible way in our personal and cultural lives.  Hopefully\, it will also illustrate the usefulness of a symbolic\, psychodynamic view of these tales for psychotherapeutic work. \nIn our Friday night meeting we will look at one Japanese tale that presents both a magical being as well as a typical human problem and dilemma.  We will talk about what the author Amy Tan calls the “knot” in the tangled mess or inherited problem of being human that is always evident in these tales.  We will see how this and other tales open up the magical realm of possibility\, offering us a path that is broader than our personal limited viewpoint might see.  As time allows\, we will also reference current fiction and film that continues this tradition of connecting with the imaginal realm as a source of new possibilities for our lives.
URL:https://www.jungcentralohio.org/event/bollingen-lecture-mythical-folkloric-magical-imaginary-beings-collective-unconscious-psychic-processes/
ORGANIZER;CN="C.G. Jung Association of Central Ohio":MAILTO:jungaco@jungcentralohio.org
END:VEVENT
BEGIN:VEVENT
DTSTART;TZID=America/New_York:20211002T093000
DTEND;TZID=America/New_York:20211002T113000
DTSTAMP:20260420T120748
CREATED:20210729T172230Z
LAST-MODIFIED:20210830T145901Z
UID:2872-1633167000-1633174200@www.jungcentralohio.org
SUMMARY:Bollingen Workshop: Human Dilemmas and the Everyday Truths of Folk Tales
DESCRIPTION:rosenbarger flier 3\n \nAccording to the renowned Jungian analyst and scholar\, Marie Louise von Franz\, “since fairy tales through the world disclose certain common themes and structures\, we may assume that they spring from the most universal substrate of the human psyche.”  It is for this reason that fairy and folk tales portray frequent human dilemmas\, the situations that give rise to them\, and paths toward their resolution.  Faced as we are at this time in our lives with serious personal\, cultural and global conflicts\, the everyday truths of fairy tales can offer us much needed wisdom and guidance.  In this weekend program we will rely upon some of these tales to focus our attention on the archetypal or universal patterns\, symbols and energies that are emerging today.  Our hope is that this access to the symbolic meaning of folk tales will enable us to participate in a more conscious and responsible way in our personal and cultural lives.  Hopefully\, it will also illustrate the usefulness of a symbolic\, psychodynamic view of these tales for psychotherapeutic work.\n In our Saturday workshop we will discuss a western tale that again shows us a typical mundane problem and how a heroine finds her way to survival and homecoming after her journey through a magical realm. In effect\, we will be probing the often subtle challenges that present themselves to us in initially unseen ways.   There will be time for discussion and exploration of the symbols and development in this tale\, with special focus on where we see these same patterns in our current everyday lives. \nMara-Lea Rosenbarger is a Jungian Analyst\, with the Diploma from The C.G. Jung Institute in Zurich. She has a private practice in Bloomington\, IN and conducts on-going reading groups studying the works of Jung and Marie Louise von Franz as well as other writers\, including modern novels. She has spent many years working in the public schools as an elementary teacher\, a Reading Specialist\, and as an Instructional and Literacy Coach. She is currently an Adjunct Faculty member at Indiana University in The School of Education. She is particularly interested in modern and not so modern fiction and how these writers revive and re-enliven the universal patterns that are so efficiently and elementally expressed in folk tales\, making this great body of \nhuman experience accessible to so many of us in so many ways.
URL:https://www.jungcentralohio.org/event/bollingen-workshop-mythical-folkloric-magical-imaginary-beings-collective-unconscious-psychic-processes/
ORGANIZER;CN="C.G. Jung Association of Central Ohio":MAILTO:jungaco@jungcentralohio.org
END:VEVENT
BEGIN:VEVENT
DTSTART;TZID=America/New_York:20211009T100000
DTEND;TZID=America/New_York:20211009T120000
DTSTAMP:20260420T120748
CREATED:20210919T160150Z
LAST-MODIFIED:20211008T223045Z
UID:3074-1633773600-1633780800@www.jungcentralohio.org
SUMMARY:The Hopewell Earthworks:  Spiritual Center of North America
DESCRIPTION:This is a free Zoom Second Saturday program. To receive the link\, please RSVP below. The program is described here though the flier may be downloaded as well:  belinda hopewell flier    May the chakras of Mother Earth and her ley lines guide you to us.  And though the program is free\, donations are deeply appreciated. https://www.jungcentralohio.org/donate/ \nDid you know that 2\,000 years ago Newark and Chillicothe were considered the spiritual center of North America?  The Newark Earthworks are among a group of seven sites from the Adena-Hopewell era in Ohio due to be inscribed by UNESCO as World Heritage sites in 2022.  Yet so many people in central Ohio know very little about them.  Learn more about these sophisticated monuments of incredible astronomical and geometric precision\, and about the indigenous people of the land we live on here in Ohio.   \nJoin Belinda Gore and Marcus Boroughs of The Great Circle Alliance as they introduce you to the Newark Earthworks\, how they were built and the people who built them. You will learn about the Hopewell era two millennia ago and what may have happened to them.
URL:https://www.jungcentralohio.org/event/the-hopewell-earthworks-spiritual-center-of-north-america/
ORGANIZER;CN="C.G. Jung Association of Central Ohio":MAILTO:jungaco@jungcentralohio.org
END:VEVENT
BEGIN:VEVENT
DTSTART;VALUE=DATE:20211029
DTEND;VALUE=DATE:20211030
DTSTAMP:20260420T120748
CREATED:20211029T181610Z
LAST-MODIFIED:20220927T152053Z
UID:3194-1635465600-1635551999@www.jungcentralohio.org
SUMMARY:The 2022 Annual Bauza Lecture Presented by Dr. Richard Sweeney
DESCRIPTION:The Bauza Lecture\, April 2022 brings a special in-person\, two-hour Bauza annual program presented by the venerable Dr. Richard Sweeney\, in honor of JACO Board member\, Donice Wooster\, who has contributed invaluable time\, talent and leadership to our organization. Dr. Sweeney’s talk will draw powerful lessons from the Brothers Grimm fairy tale Dummling and the Three Feathers\, one of Donice’s favorites.  More information will be available as we move into 2022.
URL:https://www.jungcentralohio.org/event/the-2022-annual-bauza-lecture-presented-by-dr-richard-sweeney/
END:VEVENT
END:VCALENDAR