BEGIN:VCALENDAR
VERSION:2.0
PRODID:-//Jung Association of Central Ohio - ECPv6.3.1//NONSGML v1.0//EN
CALSCALE:GREGORIAN
METHOD:PUBLISH
X-ORIGINAL-URL:https://www.jungcentralohio.org
X-WR-CALDESC:Events for Jung Association of Central Ohio
REFRESH-INTERVAL;VALUE=DURATION:PT1H
X-Robots-Tag:noindex
X-PUBLISHED-TTL:PT1H
BEGIN:VTIMEZONE
TZID:America/New_York
BEGIN:DAYLIGHT
TZOFFSETFROM:-0500
TZOFFSETTO:-0400
TZNAME:EDT
DTSTART:20220313T070000
END:DAYLIGHT
BEGIN:STANDARD
TZOFFSETFROM:-0400
TZOFFSETTO:-0500
TZNAME:EST
DTSTART:20221106T060000
END:STANDARD
END:VTIMEZONE
BEGIN:VEVENT
DTSTART;TZID=America/New_York:20220506T080000
DTEND;TZID=America/New_York:20220731T150000
DTSTAMP:20260420T043837
CREATED:20220506T151318Z
LAST-MODIFIED:20220731T184322Z
UID:4284-1651824000-1659279600@www.jungcentralohio.org
SUMMARY:Soul Collage Virtual Art Exhibit Featuring 11 JACO Members
DESCRIPTION:https://www.jungcentralohio.org/gallery/ \n  \nWELCOME \n  \nTo JACO’S FIRST Virtual Art Exhibit \n  \nSoul Collage \n  \nFeaturing 11 artists – all members of JACO \nSoulCollage has been described as “snapshots of the Soul.”  These small creations use simple materials and spontaneous technique to express dream-like images.  Colorful and archetypal\, the collage image often conveys to the artist and the viewer an archetypal vision\, a fitting focus for contemplation and inner exploration. \nWe invite you to explore this virtual art exhibit to meet eleven women artists\, all members of our JACO community\, to listen to interviews about how they see their work and the process of SoulCollageÒ\, and to reflect on their collages as windows into the collective unconscious. \nThis is the first of an ongoing series of quarterly virtual exhibits\, allowing us to continue the tradition of a JACO Art Gallery. \nYou can view the show in our virtual gallery click here to see the artwork and video interviews from the participants. \n 
URL:https://www.jungcentralohio.org/event/soul-collage-virtual-art-exhibit-featuring-11-jaco-members/
ORGANIZER;CN="C.G. Jung Association of Central Ohio":MAILTO:jungaco@jungcentralohio.org
END:VEVENT
BEGIN:VEVENT
DTSTART;TZID=America/New_York:20220611T100000
DTEND;TZID=America/New_York:20220611T120000
DTSTAMP:20260420T043837
CREATED:20220519T194142Z
LAST-MODIFIED:20220609T161233Z
UID:4340-1654941600-1654948800@www.jungcentralohio.org
SUMMARY:In-Person\, Experiential Workshop on Active Imagination\, Presented by Maggi Colwell - View Also a Video Preview
DESCRIPTION:Here is a brief preview video with Maggi.\n \nOpportunities for engagement in art making activities will be included for this workshop.  No art “talent” is necessary.  Suggested minimum donation of $5 for material costs. Donate here. Scroll below to RSVP\, please\, so that Maggi has an idea of supplies they will need. \nJACO Board member Maggi Colwell will be leading an in-person\, experiential workshop on one of Jung’s core methods of Active Imagination and how you can incorporate active imagination for working with your dreams\, art\, and fantasies as an enriching part of your personal practice. \nThe word image and imagination come from the Latin word imago meaning “to imitate” or to form an image in the mind from a picture.  This word speaks to the roots of how humans learn\, form schemas\, and use symbols.  The imagination is the internal “image maker.”  This is the same image-maker that utilizes symbols and images in our dreams. \nIn this workshop\, Maggi\, an art therapist\, will lead an experiential process with participants to get hands-on experience with active imagination to work with your own symbols and images.  Active imagination\, as created by Carl Jung is a method for engaging with your unconscious that is outside normal rational cognitive thought.  Like light trance\, meditation\, or daydreaming\, active imagination exercises and techniques will be explored. \nThis workshop will be in person\, experiential\, and hands-on rather than lecture focused. \nMaggi Colwell\, MS\, ATR-BC recognized a deep interest for both creativity and dreams at a young age.  As a child\, they had a burning desire for painting. They found the symbolism in renaissance paintings fascinating and the strangeness of surrealism enthralling.  Maggi now considers their relationship with art-making a conversation with their soul. \nProfessionally\, Maggi received their Masters in Art Therapy from Florida State University and is a board-certified\, registered art therapist.  Maggi lives in Columbus Ohio and is the owner of Chiron Art Therapy\, where they have a private practice in art therapy. They focus on their client’s symbolism in their artwork\, dreams\, and archetypal patterns in their lives.  You can find out more from columbusarttherapy.com.
URL:https://www.jungcentralohio.org/event/in-person-experiential-workshop-on-active-imagination-presented-by-maggi-colwell/
LOCATION:First Community\, 1320 Cambridge Blvd.\, Columbus\, Ohio 43212
ORGANIZER;CN="C.G. Jung Association of Central Ohio":MAILTO:jungaco@jungcentralohio.org
END:VEVENT
END:VCALENDAR