BEGIN:VCALENDAR
VERSION:2.0
PRODID:-//Jung Association of Central Ohio - ECPv6.3.1//NONSGML v1.0//EN
CALSCALE:GREGORIAN
METHOD:PUBLISH
X-ORIGINAL-URL:https://www.jungcentralohio.org
X-WR-CALDESC:Events for Jung Association of Central Ohio
REFRESH-INTERVAL;VALUE=DURATION:PT1H
X-Robots-Tag:noindex
X-PUBLISHED-TTL:PT1H
BEGIN:VTIMEZONE
TZID:America/New_York
BEGIN:DAYLIGHT
TZOFFSETFROM:-0500
TZOFFSETTO:-0400
TZNAME:EDT
DTSTART:20250309T070000
END:DAYLIGHT
BEGIN:STANDARD
TZOFFSETFROM:-0400
TZOFFSETTO:-0500
TZNAME:EST
DTSTART:20251102T060000
END:STANDARD
END:VTIMEZONE
BEGIN:VEVENT
DTSTART;TZID=America/New_York:20250912T090000
DTEND;TZID=America/New_York:20251205T110000
DTSTAMP:20260421T095727
CREATED:20250804T201032Z
LAST-MODIFIED:20250806T124218Z
UID:7823-1757667600-1764932400@www.jungcentralohio.org
SUMMARY:Individuation and Narcissism: The Psychology of Self in Jung and Kohut\, Presented by Dr. James Fidelibus
DESCRIPTION:ZOOM ONLY\n7 SESSIONS\nFRIDAYS FROM 9 am to 11 am\nDates: 9/12; 9/26; 10/10; 10/24; 11/7; 11/21; 12/5\n2 CEUs per session\nScroll below to register for tuition and CEU credit \nTo see interview with Dr. Fidelibus about the seminar click here. \nCourse Description \nEarly development is adversely affected by disruptions in the empathic attunement on the part of caregivers. A lack of adequate of parental mirroring creates a tendency toward inflationary or deflationary self-experience. This\, in turn\, can result in defensive patterns and resistance to depth work. Moving toward healthier patterns requires confrontation with the shadow and an encounter with the Self as the transpersonal center of meaning. In approaching this work\, Jungian analyst\, Mario Jacoby\, incorporates insights from Heinz Kohut’s Self-Psychology along with standard Jungian practice. He offers reflections on clinical material that illustrate how patients can be supported through the analytic process by emphasizing empathic attunement in addition to working with complexes and the archetypal dimensions of the psyche. The analyst must learn to serve\, in balance with standard Jungian practices\, as an attuned\, empathetic self-object in helping to stabilize the patient’s ego. This\, in turn\, supports the patient adequately enough to tolerate the anxieties of the deep inner work required for personal transformation. \nText:    Jacoby\, Mario. (1985). Individuation and Narcissism: The Psychology of Self in Jung and Kohut. New York: Routledge. \nLearning Objectives \nParticipants will be able to: \n\nDevelop the ability to articulate how Jung’s teleological model and Kohut’s developmental model can be synthesized in addressing narcissistic pathology.\nRecognize clinical manifestations of narcissism in clinical material (transference\, dreams\, etc.)\, their roots in early childhood trauma\, and their significance for shaping the therapeutic approach.\nApply Jacoby’s integrative model in conceptualizing the therapist’s role in approaching ego integration and connection to the Self.\nDiscern genuine individuation from narcissistic inflation using symbolic\, developmental\, and relational material.\n\nClass Schedule \nFriday mornings from 9 to 11 \n\n\n\n  \n# \n \n  \nDate\n  \nChapter\n  \nPages\n\n\n1 \n \n9/12/25\nIntroduction \nMyth of Narcissus \n \n1 – 46\n\n\n2\n9/26/25\nEgo and Self in Analytical Psychology and Psychoanalysis \n \n47 – 77\n\n\n3 \n \n10/10/25\nAspects of the Concept of Narcissism\n78 – 112\n\n\n4\n10/24/25\nSome Goals of Narcissistic Maturation and Their Meaning for the Individuation Process \n \n113 – 149\n\n\n5 \n \n11/7/25\nForms of Narcissistic Disturbances\n150 – 187\n\n\n6\n11/21/25\nPsychotherapeutic Treatment of Narcissistic Personality Disorders I \n \n188 – 220\n\n\n7\n12/5/25\nPsychotherapeutic Treatment of Narcissistic Personality Disorders II Conclusion \n \n220 – 248\n\n\n\nJames A. Fidelibus\, Ph.D.\, is a licensed psychologist in the State of Ohio and holds a diploma as a Jungian Analyst from the C. G. Jung Institute of Chicago. In addition to psychology\, his academic background includes training in philosophy and theology. He holds certificates from the Gottman Institute\, the Ottawa Couple & Family Institute\, and the Cleveland Center for Cognitive Therapy. Dr. Fidelibus has published articles on psychotherapy outcomes and has presented on Jungian psychology locally\, nationally\, and internationally. He maintains an active psychology practice in Columbus\, Ohio.
URL:https://www.jungcentralohio.org/event/individuation-and-narcissism-the-psychology-of-self-in-jung-and-kohut-presented-by-dr-james-fidelibus/
END:VEVENT
BEGIN:VEVENT
DTSTART;TZID=America/New_York:20251018T093000
DTEND;TZID=America/New_York:20251018T160000
DTSTAMP:20260421T095727
CREATED:20250904T205406Z
LAST-MODIFIED:20251015T200553Z
UID:7874-1760779800-1760803200@www.jungcentralohio.org
SUMMARY:Bollingen Conference - Morning Lecture Titled "Jung\, AI and Psychological Integrity” plus an Afternoon Workshop on “Jung’s Myth of Consciousness in the Digital Age"
DESCRIPTION:October 18\, 2026 from 9:30 to 4 \nFirst Community  3777 Dublin Road \nIn Person and by Zoom\nPlease note that in order to meet tech support costs there will be an added registration fee to participate by Zoom. \n  \nImportant ticket information follows the program description.  IF YOU EXPERIENCE ANY DIFFICULTY PURCHASING YOUR TICKET(s) PLEASE DO CALL US AT 614-291-8050 OR EMAIL US AT jungaco@jungcentralohio.org\nPlease note that when you are ready to purchase your ticket(s) you will be given the option to pay by PayPal – or – right below that option is another option that reads Check Out: Pay Without a PayPal account. When you click on “Check Out” you will be taken to a page that has a blue PayPal login BUT underneath that you will see “Pay with debit or credit card”. We hope this explanation helps guide you through the payment process. \nWe are very excited that this year’s Conference will focus on the outer world of AI and how it impacts us on our inner world journey. \nFor the past twenty-five years\, Glen Slater\, Ph.D. has been a member of the core faculty at Pacifica Graduate Institute\, where he is currently the Associate Chair of its Jungian and Archetypal Psychology Program. He is the author of Jung vs Borg: Finding the Deeply Human in a Posthuman Age (2024)\, editor of the third volume of James Hillman’s Uniform Edition\, Senex and Puer (2005)\, co-editor of the essay collection\, Varieties of Mythic Experience (2007). He has also written numerous articles and book chapters for Jungian publications.  His research and writing interests concern Jung and film\, the psychology of religion\, and depth psychology and technology. \nDr. Slater will present a morning lecture titled “Jung\, AI and Psychological Integrity” followed by an afternoon workshop titled “Jung’s Myth of Consciousness in the Digital Age.”  The conference qualifies for 5.5 continuing education units. \nThere will be a one-hour lunch break\, and we have access to both a large refrigerator as well as a microwave so please feel free to bring a lunch (with your name on it).  There are also lunch places in the area. \nLecture: Jung\, AI and Psychological Integrity.\nDescription: In my recent book\, Jung vs Borg: Finding the Deeply Human in a Posthuman Age\, I discuss how the integrity of the human psyche is colliding with our adaptation to digital technology. I contend that a collapse of inner ecology has begun to follow that of outer ecology. This collapse concerns radical changes to human thought processes and a detrimental separation from the deeper ground of existence. Alongside the many benefits of information technologies and online life\, a number of psycho-social problems are implicated in this underlying fragmentation. These problems include an omnipresence of disinformation\, blurring lines between the actual and the virtual\, and epidemics of anxiety\, depression and loneliness. Even in the face of such trends\, many futurists are advocating for a merger of human and artificial intelligence.  In this presentation I will turn to C. G. Jung’s understanding of archetypal patterns and psychodynamics to engage these matters. A focus will be on the contrast between the integrative experiences Jung emphasized and the dissociative style of consciousness that pervades today’s digital lifestyle. We will thereby explore the way Jung’s psychology offers a critical counterpoint to the preoccupation with the present and future technologies. \nWorkshop: Jung’s Myth of Consciousness in the Digital Age\nDescription: C.G. Jung understood that psychological wellbeing rests on having a story or “myth” that conveys the meaning and purpose of existence. Along these lines\, both Jung and his followers have contended that “the creation of consciousness” (Edinger) is a fitting myth for our time\, joining the personal and collective significance of the individuation process. At this cultural-historical juncture\, as information expands and wisdom contracts\, this vision of making the unconscious more conscious may have found its ultimate purpose. With the meeting of information technology and biotechnology\, the power to reshape the world is turning into the power to reshape ourselves. But can we wield this power in conscious ways\, or will we reengineer human nature before we understand it? This workshop will consider our habits of mind in the digital age\, the differences between consciousness and intelligence\, the re-enchantment of ways of knowing\, and the redemptive prospect of a more co-creative way forward—one that taps the wisdom of the psyche and accounts for the fullness and depth of our humanity. \nMaggi Colwell\, JACO Board Member and Art Therapist\, interviewed Dr. Slater about the program he will be presenting. To see the interview\, click here. \nTo learn more about Dr. Slater and his thought process\, you may want to look into his recent book\, “Jung vs. Borg:  Finding the Deeply Human in a Posthuman Age.”[1]  In addition\, we are including here links to 4 articles\n1. Jung and the Posthumans\n2. Re-Sink the Titanic\n3. J Analytical Psychology – 2024 – Slattery – Slater Glen Jung vs Borg Finding the Deeply Human in a Posthuman Age \n4. A New Global Crisis \nIn critiquing Dr. Slater’s book\, Donald Kalshed stated: “Many years ago C. G. Jung warned us that without an ‘imagination for evil’ we modern human beings were in danger of becoming instruments of the very evil we abhor. Glen Slater’s brilliant and passionate analysis of online culture and its insidious seductions of hyperreality\, virtual companions\, and cyber presences—all run by artificial intelligence—opens up that imagination in ways that are both terrifying and illuminating. To become conscious of these dehumanizing forces in our midst and how to combat their dissociative effects on the inner life of the soul should be a major focus of all depth psychological training in the 21st century. I cannot emphasize strongly enough the importance of this book.” \n[1] For Star Trek fans\, you may recall the infamous Borg—a species that converted humans into cyborgs and the famous line\, “You will be assimilated.” \nIf you wish to become a member to receive a discounted registration fee\, you may join by clicking here. \n \n  \n  \n  \n  \n 
URL:https://www.jungcentralohio.org/event/bollingen-conference-morning-lecture-titled-archetypes-ai-and-the-human-thought-process-a-depth-psychological-review-plus-an-afternoon-workshop-on-jungs-myth-of-con/
END:VEVENT
BEGIN:VEVENT
DTSTART;TZID=America/New_York:20251025T100000
DTEND;TZID=America/New_York:20251025T120000
DTSTAMP:20260421T095727
CREATED:20250904T203455Z
LAST-MODIFIED:20250904T212235Z
UID:7921-1761386400-1761393600@www.jungcentralohio.org
SUMMARY:SATURDAY CONVERSATIONS
DESCRIPTION:October 25\, 2025\, 10:00 a.m. – 12:00 p.m. EST \n1550 Old Henderson Rd.\, Columbus\, OH 43220 \nIn Person Only \nPlease join us in a discussion/follow up to our Bollingen Conference.  Coffee\, tea\, snacks\, and community.  It promises to be a very interesting conversation. Scroll below to register\, for though this is a free event your RSVP is immensely helpful to us in planning for space and refreshments. Many thanks.
URL:https://www.jungcentralohio.org/event/saturday-conversations-3/
END:VEVENT
END:VCALENDAR